| PGSEA 1.6.0 Karl Dykema
 
 | Snapshot Date: 2008-04-09 12:13:20 -0700 (Wed, 09 Apr 2008) |  | URL: https://hedgehog.fhcrc.org/bioconductor/branches/RELEASE_2_1/madman/Rpacks/PGSEA |  | Last Changed Rev: 27709 / Revision: 30966 |  | Last Changed Date: 2007-10-02 17:41:09 -0700 (Tue, 02 Oct 2007) | 
 | lamb1 | Linux (SUSE 10.1) / x86_64 | OK | OK |  | 
| wilson2 | Linux (openSUSE 10.3) / x86_64 | OK | OK |  | 
| wellington | Linux (openSUSE 10.3) / i686 | OK | OK |  | 
| liverpool | Windows Server 2003 R2 (32-bit) / x64 | OK | OK | OK | 
| lemming | Windows Server 2003 (32-bit) / x64 | OK | OK | OK | 
| pitt | Mac OS X Tiger (10.4.11) / i386 | OK | OK | [ OK ] | 
                INSTALLATION WITH 'R CMD INSTALL PGSEA_1.6.0.tar.gz'
* Installing to library 'PGSEA.buildbin-libdir'
* Installing *source* package 'PGSEA' ...
** R
** data
** inst
** help
 >>> Building/Updating help pages for package 'PGSEA'
     Formats: text html latex example 
  GOLUBmcs                          text    html    latex   example
  PGSEA                             text    html    latex   example
  VAIgsc                            text    html    latex   example
  VAImcs                            text    html    latex   example
  aggregateExprs                    text    html    latex   example
  convertSmc                        text    html    latex   example
  editSmc                           text    html    latex   example
  go2smc                            text    html    latex   example
  kegg2smc                          text    html    latex   example
  nbEset                            text    html    latex   example
  readGmt                           text    html    latex   example
  readSmc                           text    html    latex   example
  scanSmc                           text    html    latex   example
  smcPlot                           text    html    latex   example
  writeGmt                          text    html    latex   example
  writeSmc                          text    html    latex   example
** building package indices ...
* DONE (PGSEA)