| GOstats 2.4.0 Robert Gentleman
 
 | Snapshot Date: 2008-04-09 12:13:20 -0700 (Wed, 09 Apr 2008) |  | URL: https://hedgehog.fhcrc.org/bioconductor/branches/RELEASE_2_1/madman/Rpacks/GOstats |  | Last Changed Rev: 27709 / Revision: 30966 |  | Last Changed Date: 2007-10-02 17:41:09 -0700 (Tue, 02 Oct 2007) | 
 | lamb1 | Linux (SUSE 10.1) / x86_64 | OK | OK |  | 
| wilson2 | Linux (openSUSE 10.3) / x86_64 | OK | OK |  | 
| wellington | Linux (openSUSE 10.3) / i686 | OK | OK |  | 
| liverpool | Windows Server 2003 R2 (32-bit) / x64 | OK | OK | OK | 
| lemming | Windows Server 2003 (32-bit) / x64 | [ OK ] | OK | OK | 
| pitt | Mac OS X Tiger (10.4.11) / i386 | OK | OK | OK | 
* checking for file 'GOstats/DESCRIPTION' ... OK
* preparing 'GOstats':
* checking DESCRIPTION meta-information ... OK
* installing the package to re-build vignettes
installing R.css in D:/biocbld/bbs-2.1-bioc/tmpdir/Rinst501264184
---------- Making package GOstats ------------
  adding build stamp to DESCRIPTION
  installing NAMESPACE file and metadata
  installing R files
  installing inst files
  installing data files
  installing man source files
  installing indices
  not zipping data
  installing help
 >>> Building/Updating help pages for package 'GOstats'
     Formats: text html latex example chm 
  GOHyperG                          text    html    latex   example chm
  GOHyperGResult-class              text    html    latex           chm
  GOLeaves                          text    html    latex   example chm
  GOstats-defunct                   text    html    latex           chm
  GOstats-package                   text    html    latex           chm
  Ndists                            text    html    latex   example chm
  compCorrGraph                     text    html    latex   example chm
  compGdist                         text    html    latex   example chm
  hyperGTest                        text    html    latex           chm
  idx2dimnames                      text    html    latex   example chm
  makeGOGraph                       text    html    latex   example chm
  notConn                           text    html    latex   example chm
  oneGOGraph                        text    html    latex   example chm
  probeSetSummary                   text    html    latex   example chm
  shortestPath                      text    html    latex   example chm
  simLL                             text    html    latex   example chm
  termGraphs                        text    html    latex           chm
  triadCensus                       text    html    latex   example chm
HHC5012: Error: Cannot create a temporary file in your TEMP path.
HHC4016: Warning: Cannot open "ffx;c:\gs\gs8.51\bin;c:\Program Files\Java\jdk1.5.0_06\bin;c:\program files\imagemagick-6.3.2-q16;c:\Program Files\MySQL\MySQL Server 5.0\bin;c:\Program Files\ggobi".
Microsoft HTML Help Compiler 4.74.8702
Compiling d:\biocbld\bbs-2.1-bioc\meat\GOstats\chm\GOstats.chm
HHC4016: Warning: Cannot open "ffx;c:\gs\gs8.51\bin;c:\Program Files\Java\jdk1.5.0_06\bin;c:\program files\imagemagick-6.3.2-q16;c:\Program Files\MySQL\MySQL Server 5.0\bin;c:\Program Files\ggobi".
The following files were not compiled:
  preparing package GOstats for lazy loading
Loading required package: graph
Loading required package: GO.db
Loading required package: AnnotationDbi
Loading required package: Biobase
Loading required package: tools
Welcome to Bioconductor
  Vignettes contain introductory material. To view, type
  'openVignette()'. To cite Bioconductor, see
  'citation("Biobase")' and for packages 'citation(pkgname)'.
Loading required package: DBI
Loading required package: RSQLite
Loading required package: annotate
Loading required package: xtable
Loading required package: RBGL
Loading required package: Category
Loading required package: genefilter
Loading required package: survival
Loading required package: splines
  adding MD5 sums
* DONE (GOstats)
* creating vignettes ... OK
* removing junk files
* checking for LF line-endings in source and make files
* checking for empty or unneeded directories
* building 'GOstats_2.4.0.tar.gz'