| CGHcall 1.0.1 Sjoerd Vosse
 
 | Snapshot Date: 2008-04-09 12:13:20 -0700 (Wed, 09 Apr 2008) |  | URL: https://hedgehog.fhcrc.org/bioconductor/branches/RELEASE_2_1/madman/Rpacks/CGHcall |  | Last Changed Rev: 30179 / Revision: 30966 |  | Last Changed Date: 2008-02-26 01:19:48 -0800 (Tue, 26 Feb 2008) | 
 | lamb1 | Linux (SUSE 10.1) / x86_64 | OK | OK |  | 
| wilson2 | Linux (openSUSE 10.3) / x86_64 | OK | OK |  | 
| wellington | Linux (openSUSE 10.3) / i686 | OK | OK |  | 
| liverpool | Windows Server 2003 R2 (32-bit) / x64 | OK | OK | OK | 
| lemming | Windows Server 2003 (32-bit) / x64 | OK | OK | OK | 
| pitt | Mac OS X Tiger (10.4.11) / i386 | OK | OK | [ OK ] | 
                INSTALLATION WITH 'R CMD INSTALL CGHcall_1.0.1.tar.gz'
* Installing to library 'CGHcall.buildbin-libdir'
* Installing *source* package 'CGHcall' ...
** R
** data
** inst
** preparing package for lazy loading
Loading required package: impute
Loading required package: DNAcopy
** help
 >>> Building/Updating help pages for package 'CGHcall'
     Formats: text html latex example 
  CGHcall-package                   text    html    latex
  CGHcall                           text    html    latex   example
  Wilting                           text    html    latex
  normalize                         text    html    latex   example
  plotProfile                       text    html    latex   example
  preprocess                        text    html    latex   example
  segmentData                       text    html    latex   example
** building package indices ...
* DONE (CGHcall)