| vbmp 1.6.0 Nicola Lama
 
 | Snapshot Date: 2008-04-02 12:12:36 -0700 (Wed, 02 Apr 2008) |  | URL: https://hedgehog.fhcrc.org/bioconductor/branches/RELEASE_2_1/madman/Rpacks/vbmp |  | Last Changed Rev: 27709 / Revision: 30807 |  | Last Changed Date: 2007-10-02 17:41:09 -0700 (Tue, 02 Oct 2007) | 
 | lamb1 | Linux (SUSE 10.1) / x86_64 | OK | OK |  | 
| wilson2 | Linux (openSUSE 10.3) / x86_64 | OK | OK |  | 
| wellington | Linux (openSUSE 10.3) / i686 | OK | OK |  | 
| liverpool | Windows Server 2003 R2 (32-bit) / x64 | OK | OK | OK | 
| lemming | Windows Server 2003 (32-bit) / x64 | OK | OK | OK | 
| pitt | Mac OS X Tiger (10.4.11) / i386 | [ OK ] | OK | OK | 
* checking for file 'vbmp/DESCRIPTION' ... OK
* preparing 'vbmp':
* checking DESCRIPTION meta-information ... OK
* installing the package to re-build vignettes
* Installing *source* package 'vbmp' ...
** R
** data
** inst
** preparing package for lazy loading
** help
 >>> Building/Updating help pages for package 'vbmp'
     Formats: text html latex example 
  BRCA12                            text    html    latex
  covParams                         text    html    latex
  lowerBound                        text    html    latex
  plotDiagnostics                   text    html    latex
  predClass                         text    html    latex
  predError                         text    html    latex
  predLik                           text    html    latex
  vbmp                              text    html    latex   example
** building package indices ...
* DONE (vbmp)
* creating vignettes ... OK
* removing junk files
* checking for LF line-endings in source and make files
* checking for empty or unneeded directories
* building 'vbmp_1.6.0.tar.gz'