spikeLI 1.6.0 Enrico Carlon
 | Snapshot Date: 2008-04-02 12:12:36 -0700 (Wed, 02 Apr 2008) |  | URL: https://hedgehog.fhcrc.org/bioconductor/branches/RELEASE_2_1/madman/Rpacks/spikeLI |  | Last Changed Rev: 27709 / Revision: 30807 |  | Last Changed Date: 2007-10-02 17:41:09 -0700 (Tue, 02 Oct 2007) |  
  | lamb1  | Linux (SUSE 10.1) / x86_64  |  OK  |  OK  |  | 
| wilson2  | Linux (openSUSE 10.3) / x86_64  |  OK  |  OK  |  | 
| wellington  | Linux (openSUSE 10.3) / i686  |  OK  |  OK  |  | 
| liverpool  | Windows Server 2003 R2 (32-bit) / x64  |  OK  |  OK  |  OK  | 
| lemming  | Windows Server 2003 (32-bit) / x64  |  OK  |  OK  | [ OK ] | 
| pitt  | Mac OS X Tiger (10.4.11) / i386  |  OK  |  OK  |  OK  | 
installing R.css in D:/biocbld/bbs-2.1-bioc/meat/spikeLI.buildbin-libdir
Using auto-selected zip options 'spikeLI-ZIPDATA=zip'
---------- Making package spikeLI ------------
  adding build stamp to DESCRIPTION
  installing R files
  installing demos
  installing inst files
  installing data files
  installing man source files
  installing indices
  zipping data
  installing help
 >>> Building/Updating help pages for package 'spikeLI'
     Formats: text html latex example chm 
  IvsDG                             text    html    latex   example chm
  Ivsc                              text    html    latex   example chm
  SPIKE_IN                          text    html    latex   example chm
  SPIKE_IN95                        text    html    latex   example chm
  SPIKE_INA                         text    html    latex   example chm
  SPIKE_INB                         text    html    latex   example chm
  SPIKE_INH                         text    html    latex   example chm
  collapse                          text    html    latex   example chm
  conc133                           text    html    latex   example chm
  conc95                            text    html    latex   example chm
  hgu                               text    html    latex   example chm
  spikeLI.package                   text    html    latex           chm
HHC5012: Error: Cannot create a temporary file in your TEMP path.
HHC4016: Warning: Cannot open "m Files\Affymetrix\GDAC NetAffx;c:\gs\gs8.51\bin;c:\Program Files\Java\jdk1.5.0_06\bin;c:\program files\imagemagick-6.3.2-q16;c:\Program Files\MySQL\MySQL Server 5.0\bin;c:\Program Files\ggobi".
Microsoft HTML Help Compiler 4.74.8702
Compiling d:\biocbld\bbs-2.1-bioc\meat\R.INSTALL.4180\spikeLI\chm\spikeLI.chm
HHC4016: Warning: Cannot open "m Files\Affymetrix\GDAC NetAffx;c:\gs\gs8.51\bin;c:\Program Files\Java\jdk1.5.0_06\bin;c:\program files\imagemagick-6.3.2-q16;c:\Program Files\MySQL\MySQL Server 5.0\bin;c:\Program Files\ggobi".
The following files were not compiled:
  adding MD5 sums
packaged installation of package 'spikeLI' as spikeLI_1.6.0.zip
* DONE (spikeLI)