| siggenes 1.12.0 Holger Schwender
 
 | Snapshot Date: 2008-04-02 12:12:36 -0700 (Wed, 02 Apr 2008) |  | URL: https://hedgehog.fhcrc.org/bioconductor/branches/RELEASE_2_1/madman/Rpacks/siggenes |  | Last Changed Rev: 27709 / Revision: 30807 |  | Last Changed Date: 2007-10-02 17:41:09 -0700 (Tue, 02 Oct 2007) | 
 | lamb1 | Linux (SUSE 10.1) / x86_64 | OK | OK |  | 
| wilson2 | Linux (openSUSE 10.3) / x86_64 | OK | OK |  | 
| wellington | Linux (openSUSE 10.3) / i686 | OK | OK |  | 
| liverpool | Windows Server 2003 R2 (32-bit) / x64 | OK | OK | OK | 
| lemming | Windows Server 2003 (32-bit) / x64 | OK | OK | [ OK ] | 
| pitt | Mac OS X Tiger (10.4.11) / i386 | OK | OK | OK | 
installing R.css in D:/biocbld/bbs-2.1-bioc/meat/siggenes.buildbin-libdir
Using auto-selected zip options ' siggenes-HELP=ziponly'
---------- Making package siggenes ------------
  adding build stamp to DESCRIPTION
  installing NAMESPACE file and metadata
  installing R files
  installing inst files
  installing man source files
  installing indices
  installing help
 >>> Building/Updating help pages for package 'siggenes'
     Formats: text html latex example chm 
  EBAM-class                        text    html    latex   example chm
  FindA0-class                      text    html    latex           chm
  SAM-class                         text    html    latex   example chm
  cat.ebam                          text    html    latex           chm
  cat.stat                          text    html    latex           chm
  d.stat                            text    html    latex           chm
  delta.plot                        text    html    latex   example chm
  denspr                            text    html    latex           chm
  ebam                              text    html    latex   example chm
  find.a0                           text    html    latex   example chm
  findDelta                         text    html    latex           chm
  fudge2                            text    html    latex           chm
  help.ebam                         text    html    latex   example chm
  help.finda0                       text    html    latex   example chm
  help.sam                          text    html    latex   example chm
  link.genes                        text    html    latex           chm
  link.siggenes                     text    html    latex           chm
  list.siggenes                     text    html    latex   example chm
  nclass.wand                       text    html    latex           chm
  pi0.est                           text    html    latex   example chm
  plotArguments                     text    html    latex           chm
  plotFindArguments                 text    html    latex           chm
  qvalue.cal                        text    html    latex   example chm
  rowWilcoxon                       text    html    latex           chm
  sam                               text    html    latex   example chm
  sam.plot2                         text    html    latex   example chm
  siggenes-internal                 text    html    latex           chm
  siggenes2excel                    text    html    latex           chm
  siggenes2html                     text    html    latex           chm
  sumSAM-class                      text    html    latex           chm
  wilc.ebam                         text    html    latex           chm
  wilc.stat                         text    html    latex           chm
  z.ebam                            text    html    latex           chm
  zipping help files
HHC5012: Error: Cannot create a temporary file in your TEMP path.
HHC4016: Warning: Cannot open "\;c:\Program Files\Affymetrix\GDAC NetAffx;c:\gs\gs8.51\bin;c:\Program Files\Java\jdk1.5.0_06\bin;c:\program files\imagemagick-6.3.2-q16;c:\Program Files\MySQL\MySQL Server 5.0\bin;c:\Program Files\ggobi".
Microsoft HTML Help Compiler 4.74.8702
Compiling d:\biocbld\bbs-2.1-bioc\meat\R.INSTALL.6100\siggenes\chm\siggenes.chm
HHC4016: Warning: Cannot open "\;c:\Program Files\Affymetrix\GDAC NetAffx;c:\gs\gs8.51\bin;c:\Program Files\Java\jdk1.5.0_06\bin;c:\program files\imagemagick-6.3.2-q16;c:\Program Files\MySQL\MySQL Server 5.0\bin;c:\Program Files\ggobi".
The following files were not compiled:
  preparing package siggenes for lazy loading
Loading required package: multtest
Loading required package: Biobase
Loading required package: tools
Welcome to Bioconductor
  Vignettes contain introductory material. To view, type
  'openVignette()'. To cite Bioconductor, see
  'citation("Biobase")' and for packages 'citation(pkgname)'.
Loading required package: survival
Loading required package: splines
Creating a new generic function for "print" in "siggenes"
Creating a new generic function for "identify" in "siggenes"
  adding MD5 sums
packaged installation of package 'siggenes' as siggenes_1.12.0.zip
* DONE (siggenes)