pathRender 1.6.1 Li Long
 | Snapshot Date: 2008-04-02 12:12:36 -0700 (Wed, 02 Apr 2008) |  | URL: https://hedgehog.fhcrc.org/bioconductor/branches/RELEASE_2_1/madman/Rpacks/pathRender |  | Last Changed Rev: 28218 / Revision: 30807 |  | Last Changed Date: 2007-10-25 04:51:23 -0700 (Thu, 25 Oct 2007) |  
  | lamb1  | Linux (SUSE 10.1) / x86_64  | [ OK ] |  OK  |  | 
| wilson2  | Linux (openSUSE 10.3) / x86_64  |  OK  |  OK  |  | 
| wellington  | Linux (openSUSE 10.3) / i686  |  OK  |  OK  |  | 
| liverpool  | Windows Server 2003 R2 (32-bit) / x64  |  OK  |  OK  |  OK  | 
| lemming  | Windows Server 2003 (32-bit) / x64  |  OK  |  OK  |  OK  | 
| pitt  | Mac OS X Tiger (10.4.11) / i386  |  OK  |  OK  |  OK  | 
* checking for file 'pathRender/DESCRIPTION' ... OK
* preparing 'pathRender':
* checking DESCRIPTION meta-information ... OK
* installing the package to re-build vignettes
* Installing *source* package 'pathRender' ...
** R
** inst
** preparing package for lazy loading
Loading required package: graph
Loading required package: Rgraphviz
Loading required package: cMAP
** help
 >>> Building/Updating help pages for package 'pathRender'
     Formats: text html latex example 
  graphcMAP                         text    html    latex   example
  pwayGraph-class                   text    html    latex   example
  rendercMAP                        text    html    latex   example
** building package indices ...
* DONE (pathRender)
* creating vignettes ... OK
* removing junk files
* checking for LF line-endings in source and make files
* checking for empty or unneeded directories
* building 'pathRender_1.6.1.tar.gz'