| ontoTools 1.14.0 Vince Carey
 
 | Snapshot Date: 2008-04-02 12:12:36 -0700 (Wed, 02 Apr 2008) |  | URL: https://hedgehog.fhcrc.org/bioconductor/branches/RELEASE_2_1/madman/Rpacks/ontoTools |  | Last Changed Rev: 27709 / Revision: 30807 |  | Last Changed Date: 2007-10-02 17:41:09 -0700 (Tue, 02 Oct 2007) | 
 | lamb1 | Linux (SUSE 10.1) / x86_64 | OK | OK |  | 
| wilson2 | Linux (openSUSE 10.3) / x86_64 | OK | OK |  | 
| wellington | Linux (openSUSE 10.3) / i686 | OK | OK |  | 
| liverpool | Windows Server 2003 R2 (32-bit) / x64 | OK | OK | OK | 
| lemming | Windows Server 2003 (32-bit) / x64 | OK | OK | OK | 
| pitt | Mac OS X Tiger (10.4.11) / i386 | OK | OK | [ OK ] | 
                INSTALLATION WITH 'R CMD INSTALL ontoTools_1.14.0.tar.gz'
* Installing to library 'ontoTools.buildbin-libdir'
* Installing *source* package 'ontoTools' ...
** R
** data
** inst
** preparing package for lazy loading
Loading required package: graph
Loading required package: SparseM
Package SparseM (0.77) loaded.  To cite, see citation("SparseM")
Loading required package: GO
Loading required package: Biobase
Loading required package: tools
Welcome to Bioconductor
  Vignettes contain introductory material. To view, type
  'openVignette()'. To cite Bioconductor, see
  'citation("Biobase")' and for packages 'citation(pkgname)'.
Loading required package: annotate
Loading required package: AnnotationDbi
Loading required package: DBI
Loading required package: RSQLite
Loading required package: xtable
Creating a new generic function for "grep" in "ontoTools"
** help
 >>> Building/Updating help pages for package 'ontoTools'
     Formats: text html latex example 
  A.csr                             text    html    latex
  GDI                               text    html    latex   example
  LLGOMFcp                          text    html    latex
  OOC-class                         text    html    latex   example
  SGDIvocab                         text    html    latex   example
  STMA                              text    html    latex   example
  accessMat                         text    html    latex   example
  buildGOgraph                      text    html    latex   example
  compoundGraph-class               text    html    latex   example
  depthStruct                       text    html    latex   example
  gomfAmat                          text    html    latex
  litOnto                           text    html    latex
  namedSparse-class                 text    html    latex   example
  ontology-class                    text    html    latex   example
  ooMapLL2GOMFdemo                  text    html    latex
  otkvEnv2namedSparse               text    html    latex   example
  rootedDAG-class                   text    html    latex   example
  semsim                            text    html    latex   example
  taggedHierNomenclature-class      text    html    latex   example
  toDot-methods                     text    html    latex   example
** building package indices ...
* DONE (ontoTools)