| limmaGUI 1.14.1 Keith Satterley
 
 | Snapshot Date: 2008-04-02 12:12:36 -0700 (Wed, 02 Apr 2008) |  | URL: https://hedgehog.fhcrc.org/bioconductor/branches/RELEASE_2_1/madman/Rpacks/limmaGUI |  | Last Changed Rev: 27741 / Revision: 30807 |  | Last Changed Date: 2007-10-03 19:51:29 -0700 (Wed, 03 Oct 2007) | 
 | lamb1 | Linux (SUSE 10.1) / x86_64 | OK | OK |  | 
| wilson2 | Linux (openSUSE 10.3) / x86_64 | OK | OK |  | 
| wellington | Linux (openSUSE 10.3) / i686 | OK | OK |  | 
| liverpool | Windows Server 2003 R2 (32-bit) / x64 | OK | OK | [ OK ] | 
| lemming | Windows Server 2003 (32-bit) / x64 | OK | OK | OK | 
| pitt | Mac OS X Tiger (10.4.11) / i386 | OK | OK | OK | 
installing R.css in E:/biocbld/bbs-2.1-bioc/meat/limmaGUI.buildbin-libdir
Using auto-selected zip options ''
---------- Making package limmaGUI ------------
  adding build stamp to DESCRIPTION
  installing R files
  installing inst files
  installing man source files
  installing indices
  installing help
Note: unmatched right brace in 'limmaGUI' on or after line 139
Note: unmatched right brace in 'limmaGUI.Rd' on or after line 139
 >>> Building/Updating help pages for package 'limmaGUI'
     Formats: text html latex example chm 
  LGchangelog                       text    html    latex           chm
  limmaGUI                          text    html    latex           chm
Microsoft HTML Help Compiler 4.74.8702
Compiling e:\biocbld\bbs-2.1-bioc\meat\R.INSTALL.5844\limmaGUI\chm\limmaGUI.chm
Compile time: 0 minutes, 0 seconds
3	Topics
137	Local links
0	Internet links
1	Graphic
Created e:\biocbld\bbs-2.1-bioc\meat\R.INSTALL.5844\limmaGUI\chm\limmaGUI.chm, 26,551 bytes
Compression decreased file by 36,974 bytes.
  preparing package limmaGUI for lazy loading
Loading required package: limma
Loading required package: tcltk
Loading Tcl/Tk interface ... done
  adding MD5 sums
packaged installation of package 'limmaGUI' as limmaGUI_1.14.1.zip
* DONE (limmaGUI)