Back to the "Multiple platform build/check report" | A B C D E F G [H] I J K L M N O P Q R S T U V W X Y Z |
Package 103/233 | Hostname | OS / Arch | BUILD | CHECK | BUILD BIN | ||||
hypergraph 1.10.0 Robert Gentleman
| lamb1 | Linux (SUSE 10.1) / x86_64 | OK | OK | |||||
wilson2 | Linux (openSUSE 10.3) / x86_64 | OK | OK | ||||||
wellington | Linux (openSUSE 10.3) / i686 | [ OK ] | OK | ||||||
liverpool | Windows Server 2003 R2 (32-bit) / x64 | OK | OK | OK | |||||
lemming | Windows Server 2003 (32-bit) / x64 | OK | OK | OK | |||||
pitt | Mac OS X Tiger (10.4.11) / i386 | OK | OK | OK |
Package: hypergraph |
Version: 1.10.0 |
Command: /home/biocbuild/bbs-2.1-bioc/R/bin/R CMD build hypergraph |
StartedAt: 2008-04-02 15:05:04 -0700 (Wed, 02 Apr 2008) |
EndedAt: 2008-04-02 15:05:06 -0700 (Wed, 02 Apr 2008) |
EllapsedTime: 1.7 seconds |
RetCode: 0 |
Status: OK |
PackageFile: hypergraph_1.10.0.tar.gz |
PackageFileSize: 8.688 KiB |
* checking for file 'hypergraph/DESCRIPTION' ... OK * preparing 'hypergraph': * checking DESCRIPTION meta-information ... OK * removing junk files * checking for LF line-endings in source and make files * checking for empty or unneeded directories WARNING: directory 'hypergraph/inst/doc' is empty * building 'hypergraph_1.10.0.tar.gz'