goTools 1.10.0 Agnes Paquet
 | Snapshot Date: 2008-04-02 12:12:36 -0700 (Wed, 02 Apr 2008) |  | URL: https://hedgehog.fhcrc.org/bioconductor/branches/RELEASE_2_1/madman/Rpacks/goTools |  | Last Changed Rev: 27709 / Revision: 30807 |  | Last Changed Date: 2007-10-02 17:41:09 -0700 (Tue, 02 Oct 2007) |  
  | lamb1  | Linux (SUSE 10.1) / x86_64  |  OK  |  OK  |  | 
| wilson2  | Linux (openSUSE 10.3) / x86_64  |  OK  |  OK  |  | 
| wellington  | Linux (openSUSE 10.3) / i686  |  OK  |  OK  |  | 
| liverpool  | Windows Server 2003 R2 (32-bit) / x64  |  OK  |  OK  |  OK  | 
| lemming  | Windows Server 2003 (32-bit) / x64  |  OK  |  OK  |  OK  | 
| pitt  | Mac OS X Tiger (10.4.11) / i386  |  OK  |  OK  | [ OK ] | 
                INSTALLATION WITH 'R CMD INSTALL goTools_1.10.0.tar.gz'
* Installing to library 'goTools.buildbin-libdir'
* Installing *source* package 'goTools' ...
** R
** data
** inst
** preparing package for lazy loading
Loading required package: Biobase
Loading required package: tools
Welcome to Bioconductor
  Vignettes contain introductory material. To view, type
  'openVignette()'. To cite Bioconductor, see
  'citation("Biobase")' and for packages 'citation(pkgname)'.
Loading required package: annotate
Loading required package: AnnotationDbi
Loading required package: DBI
Loading required package: RSQLite
Loading required package: xtable
Loading required package: GO
** help
 >>> Building/Updating help pages for package 'goTools'
     Formats: text html latex example 
  EndNodeList                       text    html    latex   example
  goTools-internal                  text    html    latex
  ontoCompare                       text    html    latex   example
  probeID                           text    html    latex
** building package indices ...
* DONE (goTools)