| factDesign 1.12.0 Denise Scholtens
 
 | Snapshot Date: 2008-04-02 12:12:36 -0700 (Wed, 02 Apr 2008) |  | URL: https://hedgehog.fhcrc.org/bioconductor/branches/RELEASE_2_1/madman/Rpacks/factDesign |  | Last Changed Rev: 27709 / Revision: 30807 |  | Last Changed Date: 2007-10-02 17:41:09 -0700 (Tue, 02 Oct 2007) | 
 | lamb1 | Linux (SUSE 10.1) / x86_64 | OK | [ OK ] |  | 
| wilson2 | Linux (openSUSE 10.3) / x86_64 | OK | OK |  | 
| wellington | Linux (openSUSE 10.3) / i686 | OK | OK |  | 
| liverpool | Windows Server 2003 R2 (32-bit) / x64 | OK | OK | OK | 
| lemming | Windows Server 2003 (32-bit) / x64 | OK | OK | OK | 
| pitt | Mac OS X Tiger (10.4.11) / i386 | OK | OK | OK | 
* checking for working latex ... OK
* using log directory '/home/biocbuild/bbs-2.1-bioc/meat/factDesign.Rcheck'
* using R version 2.6.2 (2008-02-08)
* checking for file 'factDesign/DESCRIPTION' ... OK
* this is package 'factDesign' version '1.12.0'
* checking package dependencies ... OK
* checking if this is a source package ... OK
* checking whether package 'factDesign' can be installed ... OK
* checking package directory ... OK
* checking for portable file names ... OK
* checking for sufficient/correct file permissions ... OK
* checking DESCRIPTION meta-information ... OK
* checking top-level files ... OK
* checking index information ... OK
* checking package subdirectories ... OK
* checking R files for non-ASCII characters ... OK
* checking R files for syntax errors ... OK
* checking whether the package can be loaded ... OK
* checking whether the package can be loaded with stated dependencies ... OK
* checking for unstated dependencies in R code ... OK
* checking S3 generic/method consistency ... OK
* checking replacement functions ... OK
* checking foreign function calls ... OK
* checking R code for possible problems ... OK
* checking Rd files ... OK
* checking Rd cross-references ... OK
* checking for missing documentation entries ... OK
* checking for code/documentation mismatches ... OK
* checking Rd \usage sections ... OK
* checking data for non-ASCII characters ... OK
* creating factDesign-Ex.R ... OK
* checking examples ... OK
* checking package vignettes in 'inst/doc' ... OK
* creating factDesign-manual.tex ... OK
* checking factDesign-manual.tex ... OK
 
* Installing *source* package 'factDesign' ...
** R
** data
** inst
** help
 >>> Building/Updating help pages for package 'factDesign'
     Formats: text html latex example 
  contrasts                         text    html    latex   example
  estrogen                          text    html    latex   example
  findFC                            text    html    latex   example
  kRepsOverA                        text    html    latex   example
  outliers                          text    html    latex   example
** building package indices ...
* DONE (factDesign)