| explorase 1.2.0 Michael Lawrence
 
 | Snapshot Date: 2008-04-02 12:12:36 -0700 (Wed, 02 Apr 2008) |  | URL: https://hedgehog.fhcrc.org/bioconductor/branches/RELEASE_2_1/madman/Rpacks/explorase |  | Last Changed Rev: 28201 / Revision: 30807 |  | Last Changed Date: 2007-10-24 12:09:11 -0700 (Wed, 24 Oct 2007) | 
 | lamb1 | Linux (SUSE 10.1) / x86_64 | OK | [ OK ] |  | 
| wilson2 | Linux (openSUSE 10.3) / x86_64 | OK | OK |  | 
| wellington | Linux (openSUSE 10.3) / i686 | OK | OK |  | 
| liverpool | Windows Server 2003 R2 (32-bit) / x64 | OK | OK | OK | 
| lemming | Windows Server 2003 (32-bit) / x64 | OK | OK | OK | 
| pitt | Mac OS X Tiger (10.4.11) / i386 | OK | WARNINGS | OK | 
* checking for working latex ... OK
* using log directory '/home/biocbuild/bbs-2.1-bioc/meat/explorase.Rcheck'
* using R version 2.6.2 (2008-02-08)
* checking for file 'explorase/DESCRIPTION' ... OK
* this is package 'explorase' version '1.2.0'
* checking package name space information ... OK
* checking package dependencies ... OK
* checking if this is a source package ... OK
* checking whether package 'explorase' can be installed ... OK
* checking package directory ... OK
* checking for portable file names ... OK
* checking for sufficient/correct file permissions ... OK
* checking DESCRIPTION meta-information ... OK
* checking top-level files ... OK
* checking index information ... OK
* checking package subdirectories ... OK
* checking R files for non-ASCII characters ... OK
* checking R files for syntax errors ... OK
* checking whether the package can be loaded ... OK
* checking whether the package can be loaded with stated dependencies ... OK
* checking whether the name space can be loaded with stated dependencies ... OK
* checking for unstated dependencies in R code ... OK
* checking S3 generic/method consistency ... OK
* checking replacement functions ... OK
* checking foreign function calls ... OK
* checking R code for possible problems ... OK
* checking Rd files ... OK
* checking Rd cross-references ... OK
* checking for missing documentation entries ... OK
* checking for code/documentation mismatches ... OK
* checking Rd \usage sections ... OK
* creating explorase-Ex.R ... OK
* checking examples ... OK
* checking package vignettes in 'inst/doc' ... OK
* creating explorase-manual.tex ... OK
* checking explorase-manual.tex ... OK
 
* Installing *source* package 'explorase' ...
** R
** inst
** preparing package for lazy loading
Loading required package: rggobi
Loading required package: RGtk2
Loading required package: limma
** help
 >>> Building/Updating help pages for package 'explorase'
     Formats: text html latex example 
  exp-addEntityType-vx              text    html    latex   example
  exp-addFilterRule-rn              text    html    latex   example
  exp-calcAngleDist-31              text    html    latex   example
  exp-calcCanberraDist              text    html    latex   example
  exp-calcCorrelationDist-45        text    html    latex   example
  exp-calcDiff-y4                   text    html    latex   example
  exp-calcEuclideanDist-dn          text    html    latex   example
  exp-calcMahalanobisDist-r1        text    html    latex   example
  exp-calcResiduals-ps              text    html    latex   example
  exp-calcZeroCorDist-by            text    html    latex   example
  exp-close                         text    html    latex
  exp-colorEntities-1h              text    html    latex   example
  exp-dataset-6l                    text    html    latex   example
  exp-designFactors-72              text    html    latex   example
  exp-designFrame-d0                text    html    latex   example
  exp-designSelection-5s            text    html    latex   example
  exp-entitiesInList-df             text    html    latex   example
  exp-entityFrame-4j                text    html    latex   example
  exp-entitySelection-11            text    html    latex   example
  exp-entityType-69                 text    html    latex   example
  exp-entityTypes-9e                text    html    latex   example
  exp-filterRules-vt                text    html    latex   example
  exp-findPatterns-yw               text    html    latex   example
  exp-ggobi-69                      text    html    latex   example
  exp-isRunning-fo                  text    html    latex   example
  exp-listFrame-gp                  text    html    latex   example
  exp-listSelection                 text    html    latex   example
  exp-loadData-bo                   text    html    latex   example
  exp-loadDesign-35                 text    html    latex   example
  exp-loadFiles-1w                  text    html    latex   example
  exp-loadInfo-gk                   text    html    latex   example
  exp-loadLists-pr                  text    html    latex   example
  exp-loadProject-1g                text    html    latex   example
  exp-newList-bs                    text    html    latex   example
  exp-removeFilterRules-1i          text    html    latex   example
  exp-showClustering-b7             text    html    latex   example
  exp-showPatterns-bh               text    html    latex   example
  exp-showResults-sk                text    html    latex   example
  exp-toggleFilterRules-ts          text    html    latex   example
  explorase                         text    html    latex
** building package indices ...
* DONE (explorase)