| ctc 1.12.0 Antoine Lucas
 
 | Snapshot Date: 2008-04-02 12:12:36 -0700 (Wed, 02 Apr 2008) |  | URL: https://hedgehog.fhcrc.org/bioconductor/branches/RELEASE_2_1/madman/Rpacks/ctc |  | Last Changed Rev: 27709 / Revision: 30807 |  | Last Changed Date: 2007-10-02 17:41:09 -0700 (Tue, 02 Oct 2007) | 
 | lamb1 | Linux (SUSE 10.1) / x86_64 | OK | OK |  | 
| wilson2 | Linux (openSUSE 10.3) / x86_64 | OK | OK |  | 
| wellington | Linux (openSUSE 10.3) / i686 | OK | OK |  | 
| liverpool | Windows Server 2003 R2 (32-bit) / x64 | OK | OK | OK | 
| lemming | Windows Server 2003 (32-bit) / x64 | OK | OK | OK | 
| pitt | Mac OS X Tiger (10.4.11) / i386 | OK | OK | [ OK ] | 
                INSTALLATION WITH 'R CMD INSTALL ctc_1.12.0.tar.gz'
* Installing to library 'ctc.buildbin-libdir'
* Installing *source* package 'ctc' ...
** R
** demo
** exec
** inst
** help
 >>> Building/Updating help pages for package 'ctc'
     Formats: text html latex example 
  hc2Newick                         text    html    latex   example
  hclust2treeview                   text    html    latex   example
  r2cluster                         text    html    latex   example
  r2gtr                             text    html    latex   example
  r2xcluster                        text    html    latex   example
  read.eisen                        text    html    latex
  xcluster                          text    html    latex   example
  xcluster2r                        text    html    latex   example
** building package indices ...
* DONE (ctc)