| cellHTS2 2.2.5 Ligia Bras
 
 | Snapshot Date: 2008-04-02 12:12:36 -0700 (Wed, 02 Apr 2008) |  | URL: https://hedgehog.fhcrc.org/bioconductor/branches/RELEASE_2_1/madman/Rpacks/cellHTS2 |  | Last Changed Rev: 28949 / Revision: 30807 |  | Last Changed Date: 2007-11-28 07:37:23 -0800 (Wed, 28 Nov 2007) | 
 | lamb1 | Linux (SUSE 10.1) / x86_64 | OK | WARNINGS |  | 
| wilson2 | Linux (openSUSE 10.3) / x86_64 | OK | OK |  | 
| wellington | Linux (openSUSE 10.3) / i686 | OK | OK |  | 
| liverpool | Windows Server 2003 R2 (32-bit) / x64 | OK | OK | OK | 
| lemming | Windows Server 2003 (32-bit) / x64 | OK | OK | OK | 
| pitt | Mac OS X Tiger (10.4.11) / i386 | OK | OK | [ OK ] | 
                INSTALLATION WITH 'R CMD INSTALL cellHTS2_2.2.5.tar.gz'
* Installing to library 'cellHTS2.buildbin-libdir'
* Installing *source* package 'cellHTS2' ...
** R
** data
** inst
** preparing package for lazy loading
Loading required package: prada
Loading required package: Biobase
Loading required package: tools
Welcome to Bioconductor
  Vignettes contain introductory material. To view, type
  'openVignette()'. To cite Bioconductor, see
  'citation("Biobase")' and for packages 'citation(pkgname)'.
Loading required package: RColorBrewer
Loading required package: grid
Loading required package: rrcov
Loading required package: robustbase
Scalable Robust Estimators with High Breakdown Point (version 0.4-05)
Attaching package: 'rrcov'
	The following object(s) are masked from package:stats :
	 biplot,
	 predict,
	 screeplot 
KernSmooth 2.22 installed
Copyright M. P. Wand 1997
Loading required package: genefilter
Loading required package: survival
Loading required package: splines
Attaching package: 'survival'
	The following object(s) are masked from package:robustbase :
	 heart 
Loading required package: splots
Loading required package: vsn
Loading required package: affy
Loading required package: affyio
Loading required package: preprocessCore
Loading required package: limma
** help
 >>> Building/Updating help pages for package 'cellHTS2'
     Formats: text html latex example 
  Bscore                            text    html    latex   example
  Data                              text    html    latex
  ROC-class                         text    html    latex   example
  ROC                               text    html    latex   example
  annotate                          text    html    latex   example
  batch                             text    html    latex
  bdgpbiomart                       text    html    latex   example
  cellHTS-class                     text    html    latex   example
  cellHTS2                          text    html    latex
  configurationAsScreenPlot         text    html    latex   example
  configure                         text    html    latex   example
  convertOldCellHTS                 text    html    latex   example
  convertWellCoordinates            text    html    latex   example
  data-KcViab                       text    html    latex   example
  data-KcViabSmall                  text    html    latex   example
  data-dualCh                       text    html    latex   example
  data-oldKcViabSmall               text    html    latex   example
  getDynamicRange                   text    html    latex   example
  getEnVisionRawData                text    html    latex   example
  getMeasureRepAgreement            text    html    latex   example
  getTopTable                       text    html    latex   example
  getZfactor                        text    html    latex   example
  imageScreen                       text    html    latex   example
  intensityFiles                    text    html    latex
  normalizePlates                   text    html    latex   example
  oneRowPerId                       text    html    latex   example
  plate                             text    html    latex
  plateEffects                      text    html    latex
  plotSpatialEffects                text    html    latex   example
  readHTAnalystData                 text    html    latex   example
  readPlateList                     text    html    latex   example
  scoreReplicates                   text    html    latex   example
  scores2calls                      text    html    latex   example
  spatialNormalization              text    html    latex   example
  state                             text    html    latex
  summarizeChannels                 text    html    latex   example
  summarizeReplicates               text    html    latex   example
  wellAnno                          text    html    latex
  write.tabdel                      text    html    latex   example
  writeReport                       text    html    latex   example
  writeTab                          text    html    latex   example
** building package indices ...
* DONE (cellHTS2)