| TypeInfo 1.4.0 Duncan Temple Lang
 
 | Snapshot Date: 2008-04-02 12:12:36 -0700 (Wed, 02 Apr 2008) |  | URL: https://hedgehog.fhcrc.org/bioconductor/branches/RELEASE_2_1/madman/Rpacks/TypeInfo |  | Last Changed Rev: 27709 / Revision: 30807 |  | Last Changed Date: 2007-10-02 17:41:09 -0700 (Tue, 02 Oct 2007) | 
 | lamb1 | Linux (SUSE 10.1) / x86_64 | OK | OK |  | 
| wilson2 | Linux (openSUSE 10.3) / x86_64 | OK | OK |  | 
| wellington | Linux (openSUSE 10.3) / i686 | OK | OK |  | 
| liverpool | Windows Server 2003 R2 (32-bit) / x64 | OK | OK | [ OK ] | 
| lemming | Windows Server 2003 (32-bit) / x64 | OK | OK | OK | 
| pitt | Mac OS X Tiger (10.4.11) / i386 | OK | OK | OK | 
installing R.css in E:/biocbld/bbs-2.1-bioc/meat/TypeInfo.buildbin-libdir
Using auto-selected zip options ''
---------- Making package TypeInfo ------------
  adding build stamp to DESCRIPTION
  installing NAMESPACE file and metadata
  installing R files
  installing inst files
  preparing package TypeInfo for lazy loading
  installing man source files
  installing indices
  installing help
 >>> Building/Updating help pages for package 'TypeInfo'
     Formats: text html latex example chm 
  ClassNameOrExpression-class       text    html    latex   example chm
  DynamicTypeTest-class             text    html    latex   example chm
  IndependentTypeSpecification-clas text    html    latex   example chm
  IndependentTypeSpecification      text    html    latex   example chm
  NamedTypeTest-class               text    html    latex   example chm
  ReturnTypeSpecification           text    html    latex   example chm
  SimultaneousTypeSpecification     text    html    latex   example chm
  TypedSignature-class              text    html    latex   example chm
  TypedSignature                    text    html    latex   example chm
  checkArgs                         text    html    latex   example chm
  checkReturnValue                  text    html    latex   example chm
  hasParameterType                  text    html    latex   example chm
  paramNames                        text    html    latex   example chm
  rewriteTypeCheck                  text    html    latex   example chm
  showTypeInfo                      text    html    latex   example chm
  typeInfo                          text    html    latex   example chm
Microsoft HTML Help Compiler 4.74.8702
Compiling e:\biocbld\bbs-2.1-bioc\meat\R.INSTALL.4328\TypeInfo\chm\TypeInfo.chm
Compile time: 0 minutes, 0 seconds
17	Topics
163	Local links
1	Internet link
1	Graphic
Created e:\biocbld\bbs-2.1-bioc\meat\R.INSTALL.4328\TypeInfo\chm\TypeInfo.chm, 41,301 bytes
Compression decreased file by 42,576 bytes.
  adding MD5 sums
packaged installation of package 'TypeInfo' as TypeInfo_1.4.0.zip
* DONE (TypeInfo)