| SNPchip 1.2.1 Robert Scharpf
 
 | Snapshot Date: 2008-04-02 12:12:36 -0700 (Wed, 02 Apr 2008) |  | URL: https://hedgehog.fhcrc.org/bioconductor/branches/RELEASE_2_1/madman/Rpacks/SNPchip |  | Last Changed Rev: 27724 / Revision: 30807 |  | Last Changed Date: 2007-10-03 06:02:47 -0700 (Wed, 03 Oct 2007) | 
 | lamb1 | Linux (SUSE 10.1) / x86_64 | OK | OK |  | 
| wilson2 | Linux (openSUSE 10.3) / x86_64 | OK | OK |  | 
| wellington | Linux (openSUSE 10.3) / i686 | OK | OK |  | 
| liverpool | Windows Server 2003 R2 (32-bit) / x64 | OK | OK | OK | 
| lemming | Windows Server 2003 (32-bit) / x64 | OK | OK | OK | 
| pitt | Mac OS X Tiger (10.4.11) / i386 | OK | OK | [ OK ] | 
                INSTALLATION WITH 'R CMD INSTALL SNPchip_1.2.1.tar.gz'
* Installing to library 'SNPchip.buildbin-libdir'
* Installing *source* package 'SNPchip' ...
** R
** data
** inst
** preparing package for lazy loading
Loading required package: Biobase
Loading required package: tools
Welcome to Bioconductor
  Vignettes contain introductory material. To view, type
  'openVignette()'. To cite Bioconductor, see
  'citation("Biobase")' and for packages 'citation(pkgname)'.
Loading required package: oligoClasses
Creating a new generic function for "summary" in "SNPchip"
** help
 >>> Building/Updating help pages for package 'SNPchip'
     Formats: text html latex example 
  DEPRECATED-classes                text    html    latex
  ParESet-class                     text    html    latex   example
  ParSnpCallSet-class               text    html    latex   example
  ParSnpCopyNumberSet-class         text    html    latex   example
  ParSnpSet-class                   text    html    latex   example
  addFeatureData-method             text    html    latex
  allPlots-methods                  text    html    latex
  alleleA                           text    html    latex   example
  alleleB                           text    html    latex   example
  calculateCopyNumber               text    html    latex
  centromere                        text    html    latex   example
  chromosome                        text    html    latex
  chromosomeAnnotation              text    html    latex   example
  chromosomeSize                    text    html    latex   example
  coerce-methods                    text    html    latex
  cytoband                          text    html    latex   example
  dbSnpId                           text    html    latex   example
  enzyme                            text    html    latex   example
  fragmentLength                    text    html    latex   example
  getPar-methods                    text    html    latex
  getSnpAnnotation                  text    html    latex   example
  hapmap                            text    html    latex   example
  initialize-methods                text    html    latex
  plotCytoband                      text    html    latex   example
  plotSnp                           text    html    latex   example
  position                          text    html    latex
  sample.snpset                     text    html    latex   example
  selectSomeIndex                   text    html    latex   example
  show-methods                      text    html    latex
  showSummary                       text    html    latex   example
  smoothSnp                         text    html    latex   example
  snpPar                            text    html    latex   example
  summary-methods                   text    html    latex
  unsplitSnpSet                     text    html    latex   example
  updateObject-methods              text    html    latex
** building package indices ...
* DONE (SNPchip)