| RLMM 1.0.0 Nusrat Rabbee
 
 | Snapshot Date: 2008-04-02 12:12:36 -0700 (Wed, 02 Apr 2008) |  | URL: https://hedgehog.fhcrc.org/bioconductor/branches/RELEASE_2_1/madman/Rpacks/RLMM |  | Last Changed Rev: 27815 / Revision: 30807 |  | Last Changed Date: 2007-10-05 18:35:11 -0700 (Fri, 05 Oct 2007) | 
 | lamb1 | Linux (SUSE 10.1) / x86_64 | OK | OK |  | 
| wilson2 | Linux (openSUSE 10.3) / x86_64 | OK | OK |  | 
| wellington | Linux (openSUSE 10.3) / i686 | OK | OK |  | 
| liverpool | Windows Server 2003 R2 (32-bit) / x64 | OK | OK | OK | 
| lemming | Windows Server 2003 (32-bit) / x64 | OK | OK | OK | 
| pitt | Mac OS X Tiger (10.4.11) / i386 | OK | OK | [ OK ] | 
                INSTALLATION WITH 'R CMD INSTALL RLMM_1.0.0.tar.gz'
* Installing to library 'RLMM.buildbin-libdir'
* Installing *source* package 'RLMM' ...
** R
** inst
** help
 >>> Building/Updating help pages for package 'RLMM'
     Formats: text html latex example 
  Classify                          text    html    latex
  create_Thetafile                  text    html    latex
  normalize_Rawfiles                text    html    latex
  plot_theta                        text    html    latex
** building package indices ...
* DONE (RLMM)