| PROcess 1.14.0 Xiaochun Li
 
 | Snapshot Date: 2008-04-02 12:12:36 -0700 (Wed, 02 Apr 2008) |  | URL: https://hedgehog.fhcrc.org/bioconductor/branches/RELEASE_2_1/madman/Rpacks/PROcess |  | Last Changed Rev: 27709 / Revision: 30807 |  | Last Changed Date: 2007-10-02 17:41:09 -0700 (Tue, 02 Oct 2007) | 
 | lamb1 | Linux (SUSE 10.1) / x86_64 | OK | OK |  | 
| wilson2 | Linux (openSUSE 10.3) / x86_64 | OK | OK |  | 
| wellington | Linux (openSUSE 10.3) / i686 | OK | OK |  | 
| liverpool | Windows Server 2003 R2 (32-bit) / x64 | OK | OK | OK | 
| lemming | Windows Server 2003 (32-bit) / x64 | OK | OK | OK | 
| pitt | Mac OS X Tiger (10.4.11) / i386 | OK | OK | [ OK ] | 
                INSTALLATION WITH 'R CMD INSTALL PROcess_1.14.0.tar.gz'
* Installing to library 'PROcess.buildbin-libdir'
* Installing *source* package 'PROcess' ...
** R
** inst
** preparing package for lazy loading
Loading required package: Icens
Loading required package: survival
Loading required package: splines
** help
 >>> Building/Updating help pages for package 'PROcess'
     Formats: text html latex example 
  align                             text    html    latex
  aveSpec                           text    html    latex   example
  avesd                             text    html    latex
  binning                           text    html    latex
  bslnoff                           text    html    latex   example
  gelmap                            text    html    latex
  getMzs                            text    html    latex
  getPeaks                          text    html    latex   example
  getPeaks2                         text    html    latex
  intg                              text    html    latex   example
  is.multiple                       text    html    latex   example
  isPeak                            text    html    latex   example
  lnn                               text    html    latex
  peaks                             text    html    latex   example
  pk2bmkr                           text    html    latex   example
  quality                           text    html    latex   example
  read.files                        text    html    latex
  renorm                            text    html    latex   example
  rmBaseline                        text    html    latex   example
  specZoom                          text    html    latex   example
** building package indices ...
* DONE (PROcess)