| MassSpecWavelet 1.4.0 Pan Du
 
 | Snapshot Date: 2008-04-02 12:12:36 -0700 (Wed, 02 Apr 2008) |  | URL: https://hedgehog.fhcrc.org/bioconductor/branches/RELEASE_2_1/madman/Rpacks/MassSpecWavelet |  | Last Changed Rev: 27709 / Revision: 30807 |  | Last Changed Date: 2007-10-02 17:41:09 -0700 (Tue, 02 Oct 2007) | 
 | lamb1 | Linux (SUSE 10.1) / x86_64 | OK | OK |  | 
| wilson2 | Linux (openSUSE 10.3) / x86_64 | OK | OK |  | 
| wellington | Linux (openSUSE 10.3) / i686 | OK | OK |  | 
| liverpool | Windows Server 2003 R2 (32-bit) / x64 | OK | OK | [ OK ] | 
| lemming | Windows Server 2003 (32-bit) / x64 | OK | OK | OK | 
| pitt | Mac OS X Tiger (10.4.11) / i386 | OK | OK | OK | 
installing R.css in E:/biocbld/bbs-2.1-bioc/meat/MassSpecWavelet.buildbin-libdir
Using auto-selected zip options 'MassSpecWavelet-ZIPDATA=zip'
---------- Making package MassSpecWavelet ------------
  adding build stamp to DESCRIPTION
  installing NAMESPACE file and metadata
  installing R files
  installing inst files
  installing data files
  installing man source files
  installing indices
  zipping data
  installing help
 >>> Building/Updating help pages for package 'MassSpecWavelet'
     Formats: text html latex example chm 
  MassSpecWavelet.package           text    html    latex   example chm
  cwt                               text    html    latex   example chm
  exampleMS                         text    html    latex           chm
  extendLength                      text    html    latex   example chm
  extendNBase                       text    html    latex   example chm
  getLocalMaximumCWT                text    html    latex   example chm
  getRidge                          text    html    latex   example chm
  getRidgeLength                    text    html    latex           chm
  getRidgeValue                     text    html    latex   example chm
  identifyMajorPeaks                text    html    latex   example chm
  localMaximum                      text    html    latex   example chm
  mzInd2vRange                      text    html    latex           chm
  mzV2indRange                      text    html    latex           chm
  peakDetectionCWT                  text    html    latex   example chm
  plotLocalMax                      text    html    latex   example chm
  plotPeak                          text    html    latex   example chm
  plotRidgeList                     text    html    latex   example chm
  smoothDWT                         text    html    latex   example chm
  tuneInPeakInfo                    text    html    latex   example chm
Microsoft HTML Help Compiler 4.74.8702
Compiling e:\biocbld\bbs-2.1-bioc\meat\R.INSTALL.676\MassSpecWavelet\chm\MassSpecWavelet.chm
Compile time: 0 minutes, 1 second
20	Topics
86	Local links
0	Internet links
1	Graphic
Created e:\biocbld\bbs-2.1-bioc\meat\R.INSTALL.676\MassSpecWavelet\chm\MassSpecWavelet.chm, 34,172 bytes
Compression decreased file by 28,521 bytes.
  preparing package MassSpecWavelet for lazy loading
Loading required package: waveslim
  adding MD5 sums
packaged installation of package 'MassSpecWavelet' as MassSpecWavelet_1.4.0.zip
* DONE (MassSpecWavelet)