Back to the "Multiple platform build/check report"
| Package 228/234 | Hostname | OS | Arch | BUILD | CHECK | BUILD BIN |
| vbmp 1.6.0 Nicola Lama Last Changed Date: 2007-10-02 17:41:09 -0700 Last Changed Rev: 27709 | lamb1 | Linux (SUSE 10.1) | x86_64 | OK | OK | |
| wellington | Linux (SUSE 9.2) | i686 | [ OK ] | OK | ||
| liverpool | Windows Server 2003 R2 (32-bit) | x64 | OK | OK | OK | |
| pitt | Mac OS X (10.4.10) | i386 | OK | OK | OK |
| Package: vbmp |
| Version: 1.6.0 |
| Command: /loc/biocbuild/bbs-2.1-bioc/R/bin/R CMD build vbmp |
| RetCode: 0 |
| Time: 365.1 seconds |
| Status: OK |
| PackageFile: vbmp_1.6.0.tar.gz |
* checking for file 'vbmp/DESCRIPTION' ... OK
* preparing 'vbmp':
* checking DESCRIPTION meta-information ... OK
* installing the package to re-build vignettes
* Installing *source* package 'vbmp' ...
** R
** data
** inst
** preparing package for lazy loading
** help
>>> Building/Updating help pages for package 'vbmp'
Formats: text html latex example
BRCA12 text html latex
covParams text html latex
lowerBound text html latex
plotDiagnostics text html latex
predClass text html latex
predError text html latex
predLik text html latex
vbmp text html latex example
** building package indices ...
* DONE (vbmp)
* creating vignettes ... OK
* removing junk files
* checking for LF line-endings in source and make files
* checking for empty or unneeded directories
* building 'vbmp_1.6.0.tar.gz'