Back to the "Multiple platform build/check report"
| Package 225/234 | Hostname | OS | Arch | BUILD | CHECK | BUILD BIN | 
| twilight 1.14.1 Stefanie Scheid Last Changed Date: 2007-10-05 10:47:46 -0700 Last Changed Rev: 27779 | lamb1 | Linux (SUSE 10.1) | x86_64 | OK | OK | |
| wellington | Linux (SUSE 9.2) | i686 | OK | OK | ||
| liverpool | Windows Server 2003 R2 (32-bit) | x64 | [ OK ] | OK | OK | |
| pitt | Mac OS X (10.4.10) | i386 | OK | OK | OK | 
| Package: twilight | 
| Version: 1.14.1 | 
| Command: E:\biocbld\bbs-2.1-bioc\R\bin\R.exe CMD build twilight | 
| RetCode: 0 | 
| Time: 141.8 seconds | 
| Status: OK | 
| PackageFile: twilight_1.14.1.tar.gz | 
* checking for file 'twilight/DESCRIPTION' ... OK
* preparing 'twilight':
* checking DESCRIPTION meta-information ... OK
* cleaning src
* checking whether 'INDEX' is up-to-date ... NO
* use '--force' to overwrite the existing 'INDEX'
* installing the package to re-build vignettes
installing R.css in E:/biocbld/bbs-2.1-bioc/tmpdir/Rinst557667687
---------- Making package twilight ------------
  adding build stamp to DESCRIPTION
  making DLL ...
making confidence.line.d from confidence.line.c
making correlation.d from correlation.c
making kstest.d from kstest.c
making sep.d from sep.c
making twosample.perm.d from twosample.perm.c
making twosample.single.d from twosample.single.c
gcc-sjlj  -std=gnu99  -Ie:/biocbld/bbs-2.1-bioc/R/include    -Wall -O3  -c confidence.line.c -o confidence.line.o
gcc-sjlj  -std=gnu99  -Ie:/biocbld/bbs-2.1-bioc/R/include    -Wall -O3  -c correlation.c -o correlation.o
gcc-sjlj  -std=gnu99  -Ie:/biocbld/bbs-2.1-bioc/R/include    -Wall -O3  -c kstest.c -o kstest.o
gcc-sjlj  -std=gnu99  -Ie:/biocbld/bbs-2.1-bioc/R/include    -Wall -O3  -c sep.c -o sep.o
gcc-sjlj  -std=gnu99  -Ie:/biocbld/bbs-2.1-bioc/R/include    -Wall -O3  -c twosample.perm.c -o twosample.perm.o
gcc-sjlj  -std=gnu99  -Ie:/biocbld/bbs-2.1-bioc/R/include    -Wall -O3  -c twosample.single.c -o twosample.single.o
windres --preprocessor="gcc-sjlj -E -xc -DRC_INVOKED" -I e:/biocbld/bbs-2.1-bioc/R/include  -i twilight_res.rc -o twilight_res.o
gcc-sjlj  -std=gnu99  -shared -s  -o twilight.dll twilight.def confidence.line.o correlation.o kstest.o sep.o twosample.perm.o twosample.single.o twilight_res.o  -Le:/biocbld/bbs-2.1-bioc/R/bin    -lR
  ... DLL made
  installing DLL
  installing R files
  installing inst files
  installing data files
  installing man source files
  installing indices
  not zipping data
  installing help
 >>> Building/Updating help pages for package 'twilight'
     Formats: text html latex example chm 
  exfdr                             text    html    latex           chm
  expval                            text    html    latex           chm
  plot.twilight                     text    html    latex   example chm
  print.twilight                    text    html    latex   example chm
  twilight                          text    html    latex   example chm
  twilight.combi                    text    html    latex   example chm
  twilight.filtering                text    html    latex   example chm
  twilight.getlambda                text    html    latex           chm
  twilight.getmatrix                text    html    latex           chm
  twilight.permute.pair             text    html    latex           chm
  twilight.permute.unpair           text    html    latex           chm
  twilight.pval                     text    html    latex   example chm
  twilight.teststat                 text    html    latex   example chm
Microsoft HTML Help Compiler 4.74.8702
Compiling e:\biocbld\bbs-2.1-bioc\meat\twilight\chm\twilight.chm
Compile time: 0 minutes, 0 seconds
14	Topics
46	Local links
11	Internet links
1	Graphic
Created e:\biocbld\bbs-2.1-bioc\meat\twilight\chm\twilight.chm, 37,163 bytes
Compression decreased file by 24,382 bytes.
  preparing package twilight for lazy loading
Loading required package: splines
Loading required package: Biobase
Loading required package: tools
Welcome to Bioconductor
  Vignettes contain introductory material. To view, type
  'openVignette()'. To cite Bioconductor, see
  'citation("Biobase")' and for packages 'citation(pkgname)'.
  adding MD5 sums
* DONE (twilight)
* creating vignettes ... OK
* cleaning src
* removing junk files
* checking for LF line-endings in source and make files
* checking for empty or unneeded directories
* building 'twilight_1.14.1.tar.gz'