Back to the "Multiple platform build/check report"
| Package 222/234 | Hostname | OS | Arch | BUILD | CHECK | BUILD BIN |
| timecourse 1.10.0 Yu Chuan Tai Last Changed Date: 2007-10-02 17:41:09 -0700 Last Changed Rev: 27709 | lamb1 | Linux (SUSE 10.1) | x86_64 | OK | OK | |
| wellington | Linux (SUSE 9.2) | i686 | OK | OK | ||
| liverpool | Windows Server 2003 R2 (32-bit) | x64 | OK | OK | OK | |
| pitt | Mac OS X (10.4.10) | i386 | OK | OK | [ OK ] |
| Package: timecourse |
| Version: 1.10.0 |
| Command: /Users/biocbuild/BBS/utils/build-universal.sh timecourse_1.10.0.tar.gz /Library/Frameworks/R.framework/Resources/bin/R timecourse.buildbin-libdir |
| RetCode: 0 |
| Time: 5.8 seconds |
| Status: OK |
| PackageFile: timecourse_1.10.0.tgz |
INSTALLATION WITH 'R CMD INSTALL timecourse_1.10.0.tar.gz'
* Installing to library 'timecourse.buildbin-libdir'
* Installing *source* package 'timecourse' ...
** R
** data
** inst
** preparing package for lazy loading
Loading required package: limma
Loading required package: MASS
Loading required package: Biobase
Loading required package: tools
Welcome to Bioconductor
Vignettes contain introductory material. To view, type
'openVignette()'. To cite Bioconductor, see
'citation("Biobase")' and for packages 'citation(pkgname)'.
** help
>>> Building/Updating help pages for package 'timecourse'
Formats: text html latex example
abs2ratio text html latex
fruitfly text html latex
marrayTC-class text html latex
matrix.cov text html latex
mb.MANOVA text html latex example
mb.long text html latex example
ot.helmert text html latex
plotProfile text html latex
univ.func text html latex
** building package indices ...
* DONE (timecourse)