Back to the "Multiple platform build/check report"
| Package 219/234 | Hostname | OS | Arch | BUILD | CHECK | BUILD BIN |
| ssize 1.10.0 Gregory R. Warnes Last Changed Date: 2007-10-02 17:41:09 -0700 Last Changed Rev: 27709 | lamb1 | Linux (SUSE 10.1) | x86_64 | OK | OK | |
| wellington | Linux (SUSE 9.2) | i686 | OK | OK | ||
| liverpool | Windows Server 2003 R2 (32-bit) | x64 | OK | OK | [ OK ] | |
| pitt | Mac OS X (10.4.10) | i386 | OK | OK | OK |
| Package: ssize |
| Version: 1.10.0 |
| Command: E:\biocbld\bbs-2.1-bioc\R\bin\R.exe CMD INSTALL --build --library=ssize.buildbin-libdir ssize_1.10.0.tar.gz |
| RetCode: 0 |
| Time: 17.3 seconds |
| Status: OK |
| PackageFile: ssize_1.10.0.zip |
installing R.css in E:/biocbld/bbs-2.1-bioc/meat/ssize.buildbin-libdir
Using auto-selected zip options 'ssize-ZIPDATA=zip'
---------- Making package ssize ------------
adding build stamp to DESCRIPTION
installing R files
installing inst files
installing data files
installing man source files
installing indices
zipping data
installing help
>>> Building/Updating help pages for package 'ssize'
Formats: text html latex example chm
exp.sd text html latex example chm
pow text html latex example chm
Microsoft HTML Help Compiler 4.74.8702
Compiling e:\biocbld\bbs-2.1-bioc\meat\R.INSTALL.5680\ssize\chm\ssize.chm
Compile time: 0 minutes, 0 seconds
3 Topics
11 Local links
1 Internet link
1 Graphic
Created e:\biocbld\bbs-2.1-bioc\meat\R.INSTALL.5680\ssize\chm\ssize.chm, 21,116 bytes
Compression increased file by 5,303 bytes.
adding MD5 sums
packaged installation of package 'ssize' as ssize_1.10.0.zip
* DONE (ssize)