Back to the "Multiple platform build/check report"
| Package 214/234 | Hostname | OS | Arch | BUILD | CHECK | BUILD BIN |
| spikeLI 1.6.0 Enrico Carlon Last Changed Date: 2007-10-02 17:41:09 -0700 Last Changed Rev: 27709 | lamb1 | Linux (SUSE 10.1) | x86_64 | OK | OK | |
| wellington | Linux (SUSE 9.2) | i686 | OK | OK | ||
| liverpool | Windows Server 2003 R2 (32-bit) | x64 | [ OK ] | OK | OK | |
| pitt | Mac OS X (10.4.10) | i386 | OK | OK | OK |
| Package: spikeLI |
| Version: 1.6.0 |
| Command: E:\biocbld\bbs-2.1-bioc\R\bin\R.exe CMD build spikeLI |
| RetCode: 0 |
| Time: 21.8 seconds |
| Status: OK |
| PackageFile: spikeLI_1.6.0.tar.gz |
* checking for file 'spikeLI/DESCRIPTION' ... OK
* preparing 'spikeLI':
* checking DESCRIPTION meta-information ... OK
* installing the package to re-build vignettes
installing R.css in E:/biocbld/bbs-2.1-bioc/tmpdir/Rinst264810708
---------- Making package spikeLI ------------
adding build stamp to DESCRIPTION
installing R files
installing demos
installing inst files
installing data files
installing man source files
installing indices
not zipping data
installing help
>>> Building/Updating help pages for package 'spikeLI'
Formats: text html latex example chm
IvsDG text html latex example chm
Ivsc text html latex example chm
SPIKE_IN text html latex example chm
SPIKE_IN95 text html latex example chm
SPIKE_INA text html latex example chm
SPIKE_INB text html latex example chm
SPIKE_INH text html latex example chm
collapse text html latex example chm
conc133 text html latex example chm
conc95 text html latex example chm
hgu text html latex example chm
spikeLI.package text html latex chm
Microsoft HTML Help Compiler 4.74.8702
Compiling e:\biocbld\bbs-2.1-bioc\meat\spikeLI\chm\spikeLI.chm
Compile time: 0 minutes, 1 second
13 Topics
113 Local links
0 Internet links
1 Graphic
Created e:\biocbld\bbs-2.1-bioc\meat\spikeLI\chm\spikeLI.chm, 26,682 bytes
Compression decreased file by 11,464 bytes.
adding MD5 sums
* DONE (spikeLI)
* creating vignettes ... OK
* removing junk files
* checking for LF line-endings in source and make files
* checking for empty or unneeded directories
* building 'spikeLI_1.6.0.tar.gz'