Back to the "Multiple platform build/check report"
| Package 197/234 | Hostname | OS | Arch | BUILD | CHECK | BUILD BIN |
| safe 1.10.0 William T. Barry Last Changed Date: 2007-10-02 17:41:09 -0700 Last Changed Rev: 27709 | lamb1 | Linux (SUSE 10.1) | x86_64 | OK | OK | |
| wellington | Linux (SUSE 9.2) | i686 | OK | OK | ||
| liverpool | Windows Server 2003 R2 (32-bit) | x64 | OK | OK | OK | |
| pitt | Mac OS X (10.4.10) | i386 | OK | [ OK ] | OK |
| Package: safe |
| Version: 1.10.0 |
| Command: /Library/Frameworks/R.framework/Resources/bin/R CMD check safe_1.10.0.tar.gz |
| RetCode: 0 |
| Time: 323.6 seconds |
| Status: OK |
| CheckDir: safe.Rcheck |
| Warnings: 0 |
* checking for working latex ... OK * using log directory '/Users/biocbuild/bbs-2.1-bioc/meat/safe.Rcheck' * using R version 2.6.0 (2007-10-03) * checking for file 'safe/DESCRIPTION' ... OK * this is package 'safe' version '1.10.0' * checking package dependencies ... OK * checking if this is a source package ... OK * checking whether package 'safe' can be installed ... OK * checking package directory ... OK * checking for portable file names ... OK * checking for sufficient/correct file permissions ... OK * checking DESCRIPTION meta-information ... OK * checking top-level files ... OK * checking index information ... OK * checking package subdirectories ... OK * checking R files for non-ASCII characters ... OK * checking R files for syntax errors ... OK * checking whether the package can be loaded ... OK * checking whether the package can be loaded with stated dependencies ... OK * checking for unstated dependencies in R code ... OK * checking S3 generic/method consistency ... OK * checking replacement functions ... OK * checking foreign function calls ... OK * checking R code for possible problems ... NOTE Found possibly global 'T' or 'F' in the following functions: getCmatrix local.t.SAM local.t.Student local.t.Welch safe safeplot * checking Rd files ... OK * checking Rd cross-references ... OK * checking for missing documentation entries ... OK * checking for code/documentation mismatches ... OK * checking Rd \usage sections ... OK * creating safe-Ex.R ... OK * checking examples ... OK * checking package vignettes in 'inst/doc' ... OK * creating safe-manual.tex ... OK * checking safe-manual.tex ... OK
safe.Rcheck/00install.out:
* Installing *source* package 'safe' ...
** R
** inst
** help
>>> Building/Updating help pages for package 'safe'
Formats: text html latex example
SAFE-class text html latex
getCmatrix text html latex example
getPImatrix text html latex example
safe-internal text html latex
safe text html latex example
safeplot text html latex example
** building package indices ...
* DONE (safe)