Back to the "Multiple platform build/check report"
| Package 178/234 | Hostname | OS | Arch | BUILD | CHECK | BUILD BIN | 
| rbsurv 1.4.0 Sukwoo Kim Last Changed Date: 2007-10-02 17:41:09 -0700 Last Changed Rev: 27709 | lamb1 | Linux (SUSE 10.1) | x86_64 | OK | OK | |
| wellington | Linux (SUSE 9.2) | i686 | OK | OK | ||
| liverpool | Windows Server 2003 R2 (32-bit) | x64 | OK | OK | OK | |
| pitt | Mac OS X (10.4.10) | i386 | OK | OK | [ OK ] | 
| Package: rbsurv | 
| Version: 1.4.0 | 
| Command: /Users/biocbuild/BBS/utils/build-universal.sh rbsurv_1.4.0.tar.gz /Library/Frameworks/R.framework/Resources/bin/R rbsurv.buildbin-libdir | 
| RetCode: 0 | 
| Time: 4.1 seconds | 
| Status: OK | 
| PackageFile: rbsurv_1.4.0.tgz | 
                    INSTALLATION WITH 'R CMD INSTALL rbsurv_1.4.0.tar.gz'
* Installing to library 'rbsurv.buildbin-libdir'
* Installing *source* package 'rbsurv' ...
** R
** data
** inst
** preparing package for lazy loading
Loading required package: Biobase
Loading required package: tools
Welcome to Bioconductor
  Vignettes contain introductory material. To view, type
  'openVignette()'. To cite Bioconductor, see
  'citation("Biobase")' and for packages 'citation(pkgname)'.
Loading required package: survival
Loading required package: splines
** help
 >>> Building/Updating help pages for package 'rbsurv'
     Formats: text html latex example 
  glioma                            text    html    latex
  glioma.cov                        text    html    latex
  glioma.x                          text    html    latex
  glioma.y                          text    html    latex
  rbsurv                            text    html    latex   example
** building package indices ...
* DONE (rbsurv)