Back to the "Multiple platform build/check report"
| Package 165/234 | Hostname | OS | Arch | BUILD | CHECK | BUILD BIN |
| plgem 1.10.0 Mattia Pelizzola Last Changed Date: 2007-10-02 17:41:09 -0700 Last Changed Rev: 27709 | lamb1 | Linux (SUSE 10.1) | x86_64 | OK | OK | |
| wellington | Linux (SUSE 9.2) | i686 | OK | OK | ||
| liverpool | Windows Server 2003 R2 (32-bit) | x64 | [ OK ] | OK | OK | |
| pitt | Mac OS X (10.4.10) | i386 | OK | OK | OK |
| Package: plgem |
| Version: 1.10.0 |
| Command: E:\biocbld\bbs-2.1-bioc\R\bin\R.exe CMD build plgem |
| RetCode: 0 |
| Time: 38.8 seconds |
| Status: OK |
| PackageFile: plgem_1.10.0.tar.gz |
* checking for file 'plgem/DESCRIPTION' ... OK
* preparing 'plgem':
* checking DESCRIPTION meta-information ... OK
* installing the package to re-build vignettes
installing R.css in E:/biocbld/bbs-2.1-bioc/tmpdir/Rinst74432049
---------- Making package plgem ------------
adding build stamp to DESCRIPTION
installing R files
installing inst files
installing data files
installing man source files
installing indices
not zipping data
installing help
>>> Building/Updating help pages for package 'plgem'
Formats: text html latex example chm
LPSeset text html latex example chm
plgem.deg text html latex example chm
plgem.fit text html latex example chm
plgem.obsStn text html latex example chm
plgem.write.summary text html latex example chm
run.plgem text html latex example chm
Microsoft HTML Help Compiler 4.74.8702
Compiling e:\biocbld\bbs-2.1-bioc\meat\plgem\chm\plgem.chm
Compile time: 0 minutes, 0 seconds
7 Topics
30 Local links
6 Internet links
1 Graphic
Created e:\biocbld\bbs-2.1-bioc\meat\plgem\chm\plgem.chm, 26,256 bytes
Compression decreased file by 4,571 bytes.
adding MD5 sums
* DONE (plgem)
* creating vignettes ... OK
* removing junk files
* checking for LF line-endings in source and make files
* checking for empty or unneeded directories
* building 'plgem_1.10.0.tar.gz'