Back to the "Multiple platform build/check report"
| Package 163/234 | Hostname | OS | Arch | BUILD | CHECK | BUILD BIN |
| pickgene 1.10.0 Brian S. Yandell Last Changed Date: 2007-10-02 17:41:09 -0700 Last Changed Rev: 27709 | lamb1 | Linux (SUSE 10.1) | x86_64 | OK | OK | |
| wellington | Linux (SUSE 9.2) | i686 | OK | OK | ||
| liverpool | Windows Server 2003 R2 (32-bit) | x64 | OK | OK | OK | |
| pitt | Mac OS X (10.4.10) | i386 | OK | OK | [ OK ] |
| Package: pickgene |
| Version: 1.10.0 |
| Command: /Users/biocbuild/BBS/utils/build-universal.sh pickgene_1.10.0.tar.gz /Library/Frameworks/R.framework/Resources/bin/R pickgene.buildbin-libdir |
| RetCode: 0 |
| Time: 6.4 seconds |
| Status: OK |
| PackageFile: pickgene_1.10.0.tgz |
INSTALLATION WITH 'R CMD INSTALL pickgene_1.10.0.tar.gz'
* Installing to library 'pickgene.buildbin-libdir'
* Installing *source* package 'pickgene' ...
** R
** inst
** preparing package for lazy loading
Loading required package: MASS
** help
>>> Building/Updating help pages for package 'pickgene'
Formats: text html latex example
Simulation.pickgene text html latex example
em.ggb text html latex example
model.pickgene text html latex example
oddsplot text html latex example
pickgene-internal text html latex
pickgene text html latex example
robustscale text html latex example
** building package indices ...
* DONE (pickgene)