Back to the "Multiple platform build/check report"
| Package 159/234 | Hostname | OS | Arch | BUILD | CHECK | BUILD BIN |
| pdInfoBuilder 1.2.0 Vince Carey Last Changed Date: 2007-10-02 17:41:09 -0700 Last Changed Rev: 27709 | lamb1 | Linux (SUSE 10.1) | x86_64 | OK | OK | |
| wellington | Linux (SUSE 9.2) | i686 | OK | OK | ||
| liverpool | Windows Server 2003 R2 (32-bit) | x64 | OK | OK | [ OK ] | |
| pitt | Mac OS X (10.4.10) | i386 | OK | OK | OK |
| Package: pdInfoBuilder |
| Version: 1.2.0 |
| Command: E:\biocbld\bbs-2.1-bioc\R\bin\R.exe CMD INSTALL --build --library=pdInfoBuilder.buildbin-libdir pdInfoBuilder_1.2.0.tar.gz |
| RetCode: 0 |
| Time: 21.0 seconds |
| Status: OK |
| PackageFile: pdInfoBuilder_1.2.0.zip |
installing R.css in E:/biocbld/bbs-2.1-bioc/meat/pdInfoBuilder.buildbin-libdir
Using auto-selected zip options ''
---------- Making package pdInfoBuilder ------------
adding build stamp to DESCRIPTION
installing NAMESPACE file and metadata
making DLL ...
making pdInfoBuilder.d from pdInfoBuilder.c
gcc-sjlj -std=gnu99 -IE:/biocbld/bbs-2.1-bioc/R/include -Wall -O3 -c pdInfoBuilder.c -o pdInfoBuilder.o
windres --preprocessor="gcc-sjlj -E -xc -DRC_INVOKED" -I E:/biocbld/bbs-2.1-bioc/R/include -i pdInfoBuilder_res.rc -o pdInfoBuilder_res.o
gcc-sjlj -std=gnu99 -shared -s -o pdInfoBuilder.dll pdInfoBuilder.def pdInfoBuilder.o pdInfoBuilder_res.o -LE:/biocbld/bbs-2.1-bioc/R/bin -lR
... DLL made
installing DLL
installing R files
installing inst files
preparing package pdInfoBuilder for lazy loading
Loading required package: Biobase
Loading required package: tools
Welcome to Bioconductor
Vignettes contain introductory material. To view, type
'openVignette()'. To cite Bioconductor, see
'citation("Biobase")' and for packages 'citation(pkgname)'.
Loading required package: RSQLite
Loading required package: DBI
Loading required package: affxparser
Loading required package: oligo
Loading required package: splines
Loading required package: preprocessCore
Loading required package: AnnotationDbi
Loading required package: oligoClasses
This is the oligo package
installing man source files
installing indices
installing help
>>> Building/Updating help pages for package 'pdInfoBuilder'
Formats: text html latex example chm
AffySNPCNVPDInfoPkgSeed-class text html latex example chm
AffySNPPDInfoPkgSeed-class text html latex example chm
PDInfoPkgSeed-class text html latex example chm
PkgSeed-class text html latex example chm
chipName text html latex chm
makePdInfoPackage text html latex example chm
Microsoft HTML Help Compiler 4.74.8702
Compiling e:\biocbld\bbs-2.1-bioc\meat\R.INSTALL.6116\pdInfoBuilder\chm\pdInfoBuilder.chm
Compile time: 0 minutes, 0 seconds
7 Topics
23 Local links
0 Internet links
1 Graphic
Created e:\biocbld\bbs-2.1-bioc\meat\R.INSTALL.6116\pdInfoBuilder\chm\pdInfoBuilder.chm, 22,768 bytes
Compression decreased file by 4,670 bytes.
adding MD5 sums
packaged installation of package 'pdInfoBuilder' as pdInfoBuilder_1.2.0.zip
* DONE (pdInfoBuilder)