Back to the "Multiple platform build/check report"
| Package 158/234 | Hostname | OS | Arch | BUILD | CHECK | BUILD BIN |
| pcot2 1.6.0 Sarah Song Last Changed Date: 2007-10-02 17:41:09 -0700 Last Changed Rev: 27709 | lamb1 | Linux (SUSE 10.1) | x86_64 | OK | OK | |
| wellington | Linux (SUSE 9.2) | i686 | OK | OK | ||
| liverpool | Windows Server 2003 R2 (32-bit) | x64 | OK | OK | OK | |
| pitt | Mac OS X (10.4.10) | i386 | OK | OK | [ OK ] |
| Package: pcot2 |
| Version: 1.6.0 |
| Command: /Users/biocbuild/BBS/utils/build-universal.sh pcot2_1.6.0.tar.gz /Library/Frameworks/R.framework/Resources/bin/R pcot2.buildbin-libdir |
| RetCode: 0 |
| Time: 3.4 seconds |
| Status: OK |
| PackageFile: pcot2_1.6.0.tgz |
INSTALLATION WITH 'R CMD INSTALL pcot2_1.6.0.tar.gz'
* Installing to library 'pcot2.buildbin-libdir'
* Installing *source* package 'pcot2' ...
** R
** inst
** help
>>> Building/Updating help pages for package 'pcot2'
Formats: text html latex example
aveProbe text html latex example
corplot text html latex example
corplot2 text html latex example
getImat text html latex example
pcot2-internal text html latex
pcot2 text html latex example
** building package indices ...
* DONE (pcot2)