Back to the "Multiple platform build/check report"
| Package 143/234 | Hostname | OS | Arch | BUILD | CHECK | BUILD BIN |
| nnNorm 2.2.0 Adi Laurentiu Tarca Last Changed Date: 2007-10-02 17:41:09 -0700 Last Changed Rev: 27709 | lamb1 | Linux (SUSE 10.1) | x86_64 | OK | OK | |
| wellington | Linux (SUSE 9.2) | i686 | OK | OK | ||
| liverpool | Windows Server 2003 R2 (32-bit) | x64 | OK | OK | [ OK ] | |
| pitt | Mac OS X (10.4.10) | i386 | OK | OK | OK |
| Package: nnNorm |
| Version: 2.2.0 |
| Command: E:\biocbld\bbs-2.1-bioc\R\bin\R.exe CMD INSTALL --build --library=nnNorm.buildbin-libdir nnNorm_2.2.0.tar.gz |
| RetCode: 0 |
| Time: 14.1 seconds |
| Status: OK |
| PackageFile: nnNorm_2.2.0.zip |
installing R.css in E:/biocbld/bbs-2.1-bioc/meat/nnNorm.buildbin-libdir
Using auto-selected zip options ''
---------- Making package nnNorm ------------
adding build stamp to DESCRIPTION
installing R files
installing inst files
installing man source files
installing indices
installing help
Note: unmatched right brace in 'detectSpatialBias' on or after line 32
Note: unmatched right brace in 'detectSpatialBias.Rd' on or after line 32
Note: unmatched right brace in 'maNormNN' on or after line 52
Note: unmatched right brace in 'maNormNN.Rd' on or after line 52
>>> Building/Updating help pages for package 'nnNorm'
Formats: text html latex example chm
compNorm text html latex example chm
detectSpatialBias text html latex example chm
maNormNN text html latex example chm
Microsoft HTML Help Compiler 4.74.8702
Compiling e:\biocbld\bbs-2.1-bioc\meat\R.INSTALL.6064\nnNorm\chm\nnNorm.chm
Compile time: 0 minutes, 0 seconds
4 Topics
9 Local links
0 Internet links
1 Graphic
Created e:\biocbld\bbs-2.1-bioc\meat\R.INSTALL.6064\nnNorm\chm\nnNorm.chm, 22,297 bytes
Compression increased file by 5,005 bytes.
adding MD5 sums
packaged installation of package 'nnNorm' as nnNorm_2.2.0.zip
* DONE (nnNorm)