Back to the "Multiple platform build/check report"
| Package 122/234 | Hostname | OS | Arch | BUILD | CHECK | BUILD BIN |
| maDB 1.10.0 Johannes Rainer Last Changed Date: 2007-10-02 17:41:09 -0700 Last Changed Rev: 27709 | lamb1 | Linux (SUSE 10.1) | x86_64 | OK | OK | |
| wellington | Linux (SUSE 9.2) | i686 | [ OK ] | OK | ||
| liverpool | Windows Server 2003 R2 (32-bit) | x64 | N O T S U P P O R T E D | |||
| pitt | Mac OS X (10.4.10) | i386 | OK | OK | OK | |
| Package: maDB |
| Version: 1.10.0 |
| Command: /loc/biocbuild/bbs-2.1-bioc/R/bin/R CMD build maDB |
| RetCode: 0 |
| Time: 1.8 seconds |
| Status: OK |
| PackageFile: maDB_1.10.0.tar.gz |
* checking for file 'maDB/DESCRIPTION' ... OK * preparing 'maDB': * checking DESCRIPTION meta-information ... OK * removing junk files * checking for LF line-endings in source and make files * checking for empty or unneeded directories * building 'maDB_1.10.0.tar.gz'