Back to the "Multiple platform build/check report"
| Package 121/234 | Hostname | OS | Arch | BUILD | CHECK | BUILD BIN |
| maCorrPlot 1.8.0 Alexander Ploner Last Changed Date: 2007-10-02 17:41:09 -0700 Last Changed Rev: 27709 | lamb1 | Linux (SUSE 10.1) | x86_64 | OK | OK | |
| wellington | Linux (SUSE 9.2) | i686 | OK | OK | ||
| liverpool | Windows Server 2003 R2 (32-bit) | x64 | OK | OK | OK | |
| pitt | Mac OS X (10.4.10) | i386 | OK | OK | [ OK ] |
| Package: maCorrPlot |
| Version: 1.8.0 |
| Command: /Users/biocbuild/BBS/utils/build-universal.sh maCorrPlot_1.8.0.tar.gz /Library/Frameworks/R.framework/Resources/bin/R maCorrPlot.buildbin-libdir |
| RetCode: 0 |
| Time: 3.8 seconds |
| Status: OK |
| PackageFile: maCorrPlot_1.8.0.tgz |
INSTALLATION WITH 'R CMD INSTALL maCorrPlot_1.8.0.tar.gz'
* Installing to library 'maCorrPlot.buildbin-libdir'
* Installing *source* package 'maCorrPlot' ...
** R
** data
** inst
** help
>>> Building/Updating help pages for package 'maCorrPlot'
Formats: text html latex example
CorrSample text html latex example
CutCI text html latex example
oligodata text html latex example
plot.corr.sample text html latex example
** building package indices ...
* DONE (maCorrPlot)