Back to the "Multiple platform build/check report"
| Package 111/234 | Hostname | OS | Arch | BUILD | CHECK | BUILD BIN |
| lapmix 1.4.0 Yann Ruffieux Last Changed Date: 2007-10-02 17:41:09 -0700 Last Changed Rev: 27709 | lamb1 | Linux (SUSE 10.1) | x86_64 | OK | OK | |
| wellington | Linux (SUSE 9.2) | i686 | OK | OK | ||
| liverpool | Windows Server 2003 R2 (32-bit) | x64 | OK | OK | OK | |
| pitt | Mac OS X (10.4.10) | i386 | OK | OK | [ OK ] |
| Package: lapmix |
| Version: 1.4.0 |
| Command: /Users/biocbuild/BBS/utils/build-universal.sh lapmix_1.4.0.tar.gz /Library/Frameworks/R.framework/Resources/bin/R lapmix.buildbin-libdir |
| RetCode: 0 |
| Time: 5.8 seconds |
| Status: OK |
| PackageFile: lapmix_1.4.0.tgz |
INSTALLATION WITH 'R CMD INSTALL lapmix_1.4.0.tar.gz'
* Installing to library 'lapmix.buildbin-libdir'
* Installing *source* package 'lapmix' ...
** R
** inst
** help
>>> Building/Updating help pages for package 'lapmix'
Formats: text html latex example
lap.volcanoplot text html latex example
lapmix-internal text html latex
lapmix.Fit text html latex example
laptopTable text html latex example
** building package indices ...
* DONE (lapmix)