Back to the "Multiple platform build/check report"
| Package 109/234 | Hostname | OS | Arch | BUILD | CHECK | BUILD BIN |
| keggorth 1.0.0 VJ Carey Last Changed Date: 2007-10-05 18:31:53 -0700 Last Changed Rev: 27814 | lamb1 | Linux (SUSE 10.1) | x86_64 | [ OK ] | OK | |
| wellington | Linux (SUSE 9.2) | i686 | OK | OK | ||
| liverpool | Windows Server 2003 R2 (32-bit) | x64 | OK | OK | OK | |
| pitt | Mac OS X (10.4.10) | i386 | OK | OK | OK |
| Package: keggorth |
| Version: 1.0.0 |
| Command: /home/biocbuild/bbs-2.1-bioc/R/bin/R CMD build keggorth |
| RetCode: 0 |
| Time: 4.5 seconds |
| Status: OK |
| PackageFile: keggorth_1.0.0.tar.gz |
* checking for file 'keggorth/DESCRIPTION' ... OK
* preparing 'keggorth':
* checking DESCRIPTION meta-information ... OK
* installing the package to re-build vignettes
* Installing *source* package 'keggorth' ...
** R
** data
** inst
** help
>>> Building/Updating help pages for package 'keggorth'
Formats: text html latex example
getKOprobes text html latex example
indRender text html latex example
keggDF2graph text html latex example
** building package indices ...
* DONE (keggorth)
* creating vignettes ... OK
* removing junk files
* checking for LF line-endings in source and make files
* checking for empty or unneeded directories
* building 'keggorth_1.0.0.tar.gz'