Back to the "Multiple platform build/check report"
| Package 103/234 | Hostname | OS | Arch | BUILD | CHECK | BUILD BIN |
| hypergraph 1.10.0 Robert Gentleman Last Changed Date: 2007-10-02 17:41:09 -0700 Last Changed Rev: 27709 | lamb1 | Linux (SUSE 10.1) | x86_64 | OK | OK | |
| wellington | Linux (SUSE 9.2) | i686 | OK | OK | ||
| liverpool | Windows Server 2003 R2 (32-bit) | x64 | OK | OK | OK | |
| pitt | Mac OS X (10.4.10) | i386 | OK | OK | [ OK ] |
| Package: hypergraph |
| Version: 1.10.0 |
| Command: /Users/biocbuild/BBS/utils/build-universal.sh hypergraph_1.10.0.tar.gz /Library/Frameworks/R.framework/Resources/bin/R hypergraph.buildbin-libdir |
| RetCode: 0 |
| Time: 7.2 seconds |
| Status: OK |
| PackageFile: hypergraph_1.10.0.tgz |
INSTALLATION WITH 'R CMD INSTALL hypergraph_1.10.0.tar.gz'
* Installing to library 'hypergraph.buildbin-libdir'
* Installing *source* package 'hypergraph' ...
** R
** inst
** preparing package for lazy loading
Loading required package: graph
** help
>>> Building/Updating help pages for package 'hypergraph'
Formats: text html latex example
DirectedHyperedge-class text html latex example
DirectedHyperedge text html latex
Hyperedge-class text html latex example
Hyperedge text html latex
Hypergraph-class text html latex example
Hypergraph text html latex
kCores text html latex example
l2hel text html latex example
vCover text html latex example
** building package indices ...
* DONE (hypergraph)