Back to the "Multiple platform build/check report"
| Package 94/234 | Hostname | OS | Arch | BUILD | CHECK | BUILD BIN |
| gpls 1.10.0 Biocore Team c/o BioC user list Last Changed Date: 2007-10-02 17:41:09 -0700 Last Changed Rev: 27709 | lamb1 | Linux (SUSE 10.1) | x86_64 | OK | OK | |
| wellington | Linux (SUSE 9.2) | i686 | OK | OK | ||
| liverpool | Windows Server 2003 R2 (32-bit) | x64 | OK | OK | OK | |
| pitt | Mac OS X (10.4.10) | i386 | OK | OK | [ OK ] |
| Package: gpls |
| Version: 1.10.0 |
| Command: /Users/biocbuild/BBS/utils/build-universal.sh gpls_1.10.0.tar.gz /Library/Frameworks/R.framework/Resources/bin/R gpls.buildbin-libdir |
| RetCode: 0 |
| Time: 4.5 seconds |
| Status: OK |
| PackageFile: gpls_1.10.0.tgz |
INSTALLATION WITH 'R CMD INSTALL gpls_1.10.0.tar.gz'
* Installing to library 'gpls.buildbin-libdir'
* Installing *source* package 'gpls' ...
** R
** inst
** help
>>> Building/Updating help pages for package 'gpls'
Formats: text html latex example
glpls1a text html latex example
glpls1a.cv.error text html latex example
glpls1a.logit.all text html latex example
glpls1a.mlogit text html latex example
glpls1a.mlogit.cv.error text html latex example
glpls1a.train.test.error text html latex example
gpls text html latex example
predict.gpls text html latex example
** building package indices ...
* DONE (gpls)