Back to the "Multiple platform build/check report"
| Package 81/234 | Hostname | OS | Arch | BUILD | CHECK | BUILD BIN |
| geneRecommender 1.10.0 Greg Hather Last Changed Date: 2007-10-02 17:41:09 -0700 Last Changed Rev: 27709 | lamb1 | Linux (SUSE 10.1) | x86_64 | [ OK ] | OK | |
| wellington | Linux (SUSE 9.2) | i686 | OK | OK | ||
| liverpool | Windows Server 2003 R2 (32-bit) | x64 | OK | OK | OK | |
| pitt | Mac OS X (10.4.10) | i386 | OK | OK | OK |
| Package: geneRecommender |
| Version: 1.10.0 |
| Command: /home/biocbuild/bbs-2.1-bioc/R/bin/R CMD build geneRecommender |
| RetCode: 0 |
| Time: 3.5 seconds |
| Status: OK |
| PackageFile: geneRecommender_1.10.0.tar.gz |
* checking for file 'geneRecommender/DESCRIPTION' ... OK
* preparing 'geneRecommender':
* checking DESCRIPTION meta-information ... OK
* installing the package to re-build vignettes
* Installing *source* package 'geneRecommender' ...
** R
** inst
** help
>>> Building/Updating help pages for package 'geneRecommender'
Formats: text html latex example
gr.cv text html latex example
gr.main text html latex example
gr.normalize text html latex example
** building package indices ...
* DONE (geneRecommender)
* creating vignettes ... OK
* removing junk files
* checking for LF line-endings in source and make files
* checking for empty or unneeded directories
* building 'geneRecommender_1.10.0.tar.gz'