Back to the "Multiple platform build/check report"
| Package 68/234 | Hostname | OS | Arch | BUILD | CHECK | BUILD BIN |
| explorase 1.2.0 Michael Lawrence Last Changed Date: 2007-10-02 17:41:09 -0700 Last Changed Rev: 27709 | lamb1 | Linux (SUSE 10.1) | x86_64 | OK | OK | |
| wellington | Linux (SUSE 9.2) | i686 | N O T S U P P O R T E D | |||
| liverpool | Windows Server 2003 R2 (32-bit) | x64 | [ ERROR ] | skipped | skipped | |
| pitt | Mac OS X (10.4.10) | i386 | OK | WARNINGS | OK | |
| Package: explorase |
| Version: 1.2.0 |
| Command: E:\biocbld\bbs-2.1-bioc\R\bin\R.exe CMD build explorase |
| RetCode: 1 |
| Time: 17.2 seconds |
| Status: ERROR |
| PackageFile: None |
* checking for file 'explorase/DESCRIPTION' ... OK
* preparing 'explorase':
* checking DESCRIPTION meta-information ... OK
* installing the package to re-build vignettes
installing R.css in E:/biocbld/bbs-2.1-bioc/tmpdir/Rinst165214285
---------- Making package explorase ------------
adding build stamp to DESCRIPTION
installing NAMESPACE file and metadata
installing R files
installing inst files
installing man source files
installing indices
installing help
>>> Building/Updating help pages for package 'explorase'
Formats: text html latex example chm
exp-addEntityType-vx text html latex example chm
exp-addFilterRule-rn text html latex example chm
exp-calcAngleDist-31 text html latex example chm
exp-calcCanberraDist text html latex example chm
exp-calcCorrelationDist-45 text html latex example chm
exp-calcDiff-y4 text html latex example chm
exp-calcEuclideanDist-dn text html latex example chm
exp-calcMahalanobisDist-r1 text html latex example chm
exp-calcResiduals-ps text html latex example chm
exp-calcZeroCorDist-by text html latex example chm
exp-close text html latex chm
exp-colorEntities-1h text html latex example chm
exp-dataset-6l text html latex example chm
exp-designFactors-72 text html latex example chm
exp-designFrame-d0 text html latex example chm
exp-designSelection-5s text html latex example chm
exp-entitiesInList-df text html latex example chm
exp-entityFrame-4j text html latex example chm
exp-entitySelection-11 text html latex example chm
exp-entityType-69 text html latex example chm
exp-entityTypes-9e text html latex example chm
exp-filterRules-vt text html latex example chm
exp-findPatterns-yw text html latex example chm
exp-ggobi-69 text html latex example chm
exp-isRunning-fo text html latex example chm
exp-listFrame-gp text html latex example chm
exp-listSelection text html latex example chm
exp-loadData-bo text html latex example chm
exp-loadDesign-35 text html latex example chm
exp-loadFiles-1w text html latex example chm
exp-loadInfo-gk text html latex example chm
exp-loadLists-pr text html latex example chm
exp-loadProject-1g text html latex example chm
exp-newList-bs text html latex example chm
exp-removeFilterRules-1i text html latex example chm
exp-showClustering-b7 text html latex example chm
exp-showPatterns-bh text html latex example chm
exp-showResults-sk text html latex example chm
exp-toggleFilterRules-ts text html latex example chm
explorase text html latex chm
Microsoft HTML Help Compiler 4.74.8702
Compiling e:\biocbld\bbs-2.1-bioc\meat\explorase\chm\explorase.chm
Compile time: 0 minutes, 1 second
41 Topics
81 Local links
0 Internet links
1 Graphic
Created e:\biocbld\bbs-2.1-bioc\meat\explorase\chm\explorase.chm, 33,194 bytes
Compression decreased file by 45,389 bytes.
preparing package explorase for lazy loading
Loading required package: rggobi
Loading required package: RGtk2
Error in dyn.load(file, ...) :
unable to load shared library 'e:/biocbld/bbs-2.1-bioc/R/library/RGtk2/libs/RGtk2.dll':
LoadLibrary failure: The specified procedure could not be found.
Warning in fun(...) :
Failed to load RGtk2 dynamic library:Error in dyn.load(file, ...) :
unable to load shared library 'e:/biocbld/bbs-2.1-bioc/R/library/RGtk2/libs/RGtk2.dll':
LoadLibrary failure: The specified procedure could not be found.
Error in .C("R_gtkInit", length(args), x = args, PACKAGE = "RGtk2") :
C symbol name "R_gtkInit" not in DLL for package "RGtk2"
Error : .onLoad failed in 'loadNamespace' for 'RGtk2'
Error: package 'RGtk2' could not be loaded
Execution halted
make: *** [lazyload] Error 1
*** Installation of explorase failed ***
Removing 'E:/biocbld/bbs-2.1-bioc/tmpdir/Rinst165214285/explorase'
ERROR
Installation failed.
Removing 'E:/biocbld/bbs-2.1-bioc/tmpdir/Rinst165214285'