Back to the "Multiple platform build/check report"
| Package 58/234 | Hostname | OS | Arch | BUILD | CHECK | BUILD BIN |
| daMA 1.10.0 Jobst Landgrebe Last Changed Date: 2007-10-02 17:41:09 -0700 Last Changed Rev: 27709 | lamb1 | Linux (SUSE 10.1) | x86_64 | OK | OK | |
| wellington | Linux (SUSE 9.2) | i686 | OK | OK | ||
| liverpool | Windows Server 2003 R2 (32-bit) | x64 | OK | OK | OK | |
| pitt | Mac OS X (10.4.10) | i386 | OK | OK | [ OK ] |
| Package: daMA |
| Version: 1.10.0 |
| Command: /Users/biocbuild/BBS/utils/build-universal.sh daMA_1.10.0.tar.gz /Library/Frameworks/R.framework/Resources/bin/R daMA.buildbin-libdir |
| RetCode: 0 |
| Time: 4.0 seconds |
| Status: OK |
| PackageFile: daMA_1.10.0.tgz |
INSTALLATION WITH 'R CMD INSTALL daMA_1.10.0.tar.gz'
* Installing to library 'daMA.buildbin-libdir'
* Installing *source* package 'daMA' ...
** R
** data
** help
>>> Building/Updating help pages for package 'daMA'
Formats: text html latex example
analyseMA text html latex example
cinfo text html latex example
cinfoB.AB text html latex example
cmat text html latex example
cmatB.AB text html latex example
core text html latex example
data.3x2 text html latex example
designMA text html latex example
designs.basic text html latex
designs.composite text html latex example
id.3x2 text html latex example
** building package indices ...
* DONE (daMA)