Back to the "Multiple platform build/check report"
| Package 47/234 | Hostname | OS | Arch | BUILD | CHECK | BUILD BIN |
| cghMCR 1.8.0 J. Zhang Last Changed Date: 2007-10-02 17:41:09 -0700 Last Changed Rev: 27709 | lamb1 | Linux (SUSE 10.1) | x86_64 | OK | OK | |
| wellington | Linux (SUSE 9.2) | i686 | OK | OK | ||
| liverpool | Windows Server 2003 R2 (32-bit) | x64 | OK | OK | OK | |
| pitt | Mac OS X (10.4.10) | i386 | [ OK ] | OK | OK |
| Package: cghMCR |
| Version: 1.8.0 |
| Command: /Library/Frameworks/R.framework/Resources/bin/R CMD build cghMCR |
| RetCode: 0 |
| Time: 14.8 seconds |
| Status: OK |
| PackageFile: cghMCR_1.8.0.tar.gz |
* checking for file 'cghMCR/DESCRIPTION' ... OK
* preparing 'cghMCR':
* checking DESCRIPTION meta-information ... OK
* installing the package to re-build vignettes
* Installing *source* package 'cghMCR' ...
** R
** data
** inst
** preparing package for lazy loading
Loading required package: DNAcopy
Loading required package: marray
Loading required package: limma
Loading required package: arrayQuality
Loading required package: convert
Loading required package: Biobase
Loading required package: tools
Welcome to Bioconductor
Vignettes contain introductory material. To view, type
'openVignette()'. To cite Bioconductor, see
'citation("Biobase")' and for packages 'citation(pkgname)'.
Loading required package: hexbin
Loading required package: grid
Loading required package: lattice
Loading required package: gridBase
Loading required package: RColorBrewer
Warning in namespaceImportFrom(self, asNamespace(ns)) :
replacing previous import: summary
Creating a new generic function for "print" in "cghMCR"
** help
>>> Building/Updating help pages for package 'cghMCR'
Formats: text html latex example
cghMCR-class text html latex example
cghMCR text html latex example
mergeMCRProbes text html latex example
plot.DNAcopy text html latex example
** building package indices ...
* DONE (cghMCR)
* creating vignettes ... OK
* removing junk files
* checking for LF line-endings in source and make files
* checking for empty or unneeded directories
* building 'cghMCR_1.8.0.tar.gz'