Back to the "Multiple platform build/check report"
| Package 34/234 | Hostname | OS | Arch | BUILD | CHECK | BUILD BIN |
| bioDist 1.10.0 Biocore Team c/o BioC user list Last Changed Date: 2007-10-02 17:41:09 -0700 Last Changed Rev: 27709 | lamb1 | Linux (SUSE 10.1) | x86_64 | OK | OK | |
| wellington | Linux (SUSE 9.2) | i686 | OK | OK | ||
| liverpool | Windows Server 2003 R2 (32-bit) | x64 | OK | OK | OK | |
| pitt | Mac OS X (10.4.10) | i386 | OK | OK | [ OK ] |
| Package: bioDist |
| Version: 1.10.0 |
| Command: /Users/biocbuild/BBS/utils/build-universal.sh bioDist_1.10.0.tar.gz /Library/Frameworks/R.framework/Resources/bin/R bioDist.buildbin-libdir |
| RetCode: 0 |
| Time: 2.9 seconds |
| Status: OK |
| PackageFile: bioDist_1.10.0.tgz |
INSTALLATION WITH 'R CMD INSTALL bioDist_1.10.0.tar.gz'
* Installing to library 'bioDist.buildbin-libdir'
* Installing *source* package 'bioDist' ...
** R
** help
>>> Building/Updating help pages for package 'bioDist'
Formats: text html latex example
KLD.matrix text html latex example
KLdist.matrix text html latex example
closest.top text html latex example
cor.dist text html latex example
euc text html latex example
man text html latex example
mutualInfo text html latex example
spearman.dist text html latex example
tau.dist text html latex example
** building package indices ...
* DONE (bioDist)