Back to the "Multiple platform build/check report"
| Package 16/234 | Hostname | OS | Arch | BUILD | CHECK | BUILD BIN | 
| annaffy 1.10.0 Colin A. Smith Last Changed Date: 2007-10-02 17:41:09 -0700 Last Changed Rev: 27709 | lamb1 | Linux (SUSE 10.1) | x86_64 | OK | OK | |
| wellington | Linux (SUSE 9.2) | i686 | OK | OK | ||
| liverpool | Windows Server 2003 R2 (32-bit) | x64 | OK | OK | OK | |
| pitt | Mac OS X (10.4.10) | i386 | OK | OK | [ OK ] | 
| Package: annaffy | 
| Version: 1.10.0 | 
| Command: /Users/biocbuild/BBS/utils/build-universal.sh annaffy_1.10.0.tar.gz /Library/Frameworks/R.framework/Resources/bin/R annaffy.buildbin-libdir | 
| RetCode: 0 | 
| Time: 11.0 seconds | 
| Status: OK | 
| PackageFile: annaffy_1.10.0.tgz | 
                    INSTALLATION WITH 'R CMD INSTALL annaffy_1.10.0.tar.gz'
* Installing to library 'annaffy.buildbin-libdir'
* Installing *source* package 'annaffy' ...
** R
** data
** inst
** preparing package for lazy loading
Loading required package: Biobase
Loading required package: tools
Welcome to Bioconductor
  Vignettes contain introductory material. To view, type
  'openVignette()'. To cite Bioconductor, see
  'citation("Biobase")' and for packages 'citation(pkgname)'.
Loading required package: GO
Loading required package: KEGG
** help
 >>> Building/Updating help pages for package 'annaffy'
     Formats: text html latex example 
  aaf.character                     text    html    latex
  aaf.goterm                        text    html    latex
  aaf.handler                       text    html    latex
  aaf.integer                       text    html    latex
  aaf.raw                           text    html    latex
  aafChromLoc-class                 text    html    latex
  aafChromLoc                       text    html    latex   example
  aafChromosome-class               text    html    latex
  aafChromosome                     text    html    latex   example
  aafCytoband-class                 text    html    latex
  aafCytoband                       text    html    latex   example
  aafDescription-class              text    html    latex
  aafDescription                    text    html    latex   example
  aafExpr                           text    html    latex
  aafGO-class                       text    html    latex
  aafGO                             text    html    latex   example
  aafGOItem-class                   text    html    latex
  aafGenBank-class                  text    html    latex
  aafGenBank                        text    html    latex   example
  aafIntensity-class                text    html    latex
  aafList-class                     text    html    latex
  aafLocusLink-class                text    html    latex
  aafLocusLink                      text    html    latex   example
  aafPathway-class                  text    html    latex
  aafPathway                        text    html    latex   example
  aafPathwayItem-class              text    html    latex
  aafProbe-class                    text    html    latex
  aafProbe                          text    html    latex   example
  aafPubMed-class                   text    html    latex
  aafPubMed                         text    html    latex   example
  aafSearchGO                       text    html    latex
  aafSearchText                     text    html    latex   example
  aafSigned-class                   text    html    latex
  aafSymbol-class                   text    html    latex
  aafSymbol                         text    html    latex   example
  aafTable-class                    text    html    latex
  aafTable                          text    html    latex
  aafTableAnn                       text    html    latex
  aafTableFrame                     text    html    latex
  aafTableInt                       text    html    latex
  aafUniGene-class                  text    html    latex
  aafUniGene                        text    html    latex   example
  chkPkgs                           text    html    latex
  getCSS-methods                    text    html    latex
  getHTML-methods                   text    html    latex
  getTD-methods                     text    html    latex
  getText-methods                   text    html    latex
  getURL-methods                    text    html    latex
  is.annpkg                         text    html    latex   example
  selectorWidget                    text    html    latex
** building package indices ...
* DONE (annaffy)