Back to the "Multiple platform build/check report"
| Package 14/234 | Hostname | OS | Arch | BUILD | CHECK | BUILD BIN |
| affyQCReport 1.16.0 Craig Parman Last Changed Date: 2007-10-02 17:41:09 -0700 Last Changed Rev: 27709 | lamb1 | Linux (SUSE 10.1) | x86_64 | OK | OK | |
| wellington | Linux (SUSE 9.2) | i686 | OK | OK | ||
| liverpool | Windows Server 2003 R2 (32-bit) | x64 | OK | OK | OK | |
| pitt | Mac OS X (10.4.10) | i386 | OK | OK | [ OK ] |
| Package: affyQCReport |
| Version: 1.16.0 |
| Command: /Users/biocbuild/BBS/utils/build-universal.sh affyQCReport_1.16.0.tar.gz /Library/Frameworks/R.framework/Resources/bin/R affyQCReport.buildbin-libdir |
| RetCode: 0 |
| Time: 3.8 seconds |
| Status: OK |
| PackageFile: affyQCReport_1.16.0.tgz |
INSTALLATION WITH 'R CMD INSTALL affyQCReport_1.16.0.tar.gz'
* Installing to library 'affyQCReport.buildbin-libdir'
* Installing *source* package 'affyQCReport' ...
** R
** inst
** help
>>> Building/Updating help pages for package 'affyQCReport'
Formats: text html latex example
QCReport text html latex example
affyQAReport text html latex example
borderQC1 text html latex example
borderQC2 text html latex example
correlationPlot text html latex example
signalDist text html latex example
titlePage text html latex example
** building package indices ...
* DONE (affyQCReport)