Back to the "Multiple platform build/check report"
| Package 5/234 | Hostname | OS | Arch | BUILD | CHECK | BUILD BIN | 
| affxparser 1.10.0 Kasper Daniel Hansen Last Changed Date: 2007-10-02 17:41:09 -0700 Last Changed Rev: 27709 | lamb1 | Linux (SUSE 10.1) | x86_64 | OK | OK | |
| wellington | Linux (SUSE 9.2) | i686 | [ OK ] | OK | ||
| liverpool | Windows Server 2003 R2 (32-bit) | x64 | OK | OK | OK | |
| pitt | Mac OS X (10.4.10) | i386 | OK | OK | OK | 
| Package: affxparser | 
| Version: 1.10.0 | 
| Command: /loc/biocbuild/bbs-2.1-bioc/R/bin/R CMD build affxparser | 
| RetCode: 0 | 
| Time: 4.5 seconds | 
| Status: OK | 
| PackageFile: affxparser_1.10.0.tar.gz | 
* checking for file 'affxparser/DESCRIPTION' ... OK * preparing 'affxparser': * checking DESCRIPTION meta-information ... OK * cleaning src * removing junk files * checking for LF line-endings in source and make files * checking for empty or unneeded directories WARNING: directory 'affxparser/tests/benchmarking' is empty * building 'affxparser_1.10.0.tar.gz'