Back to the "Multiple platform build/check report"
| Package 203/234 | Hostname | OS | Arch | BUILD | CHECK | BUILD BIN |
| SemSim 1.4.0 Xiang Guo Last Changed Date: 2007-10-02 17:41:09 -0700 Last Changed Rev: 27709 | lamb1 | Linux (SUSE 10.1) | x86_64 | OK | OK | |
| wellington | Linux (SUSE 9.2) | i686 | OK | OK | ||
| liverpool | Windows Server 2003 R2 (32-bit) | x64 | OK | OK | OK | |
| pitt | Mac OS X (10.4.10) | i386 | OK | OK | [ OK ] |
| Package: SemSim |
| Version: 1.4.0 |
| Command: /Users/biocbuild/BBS/utils/build-universal.sh SemSim_1.4.0.tar.gz /Library/Frameworks/R.framework/Resources/bin/R SemSim.buildbin-libdir |
| RetCode: 0 |
| Time: 2.8 seconds |
| Status: OK |
| PackageFile: SemSim_1.4.0.tgz |
INSTALLATION WITH 'R CMD INSTALL SemSim_1.4.0.tar.gz'
* Installing to library 'SemSim.buildbin-libdir'
* Installing *source* package 'SemSim' ...
** R
** data
** inst
** help
>>> Building/Updating help pages for package 'SemSim'
Formats: text html latex example
GOCount text html latex
Schreiber text html latex example
SemSim-internal text html latex
SemSim-package text html latex
geneSim text html latex example
mgeneSim text html latex example
mtermSim text html latex example
termSim text html latex example
** building package indices ...
* DONE (SemSim)