Back to the "Multiple platform build/check report"
| Package 201/234 | Hostname | OS | Arch | BUILD | CHECK | BUILD BIN |
| SBMLR 1.32.0 Tomas Radivoyevitch Last Changed Date: 2007-10-02 17:41:09 -0700 Last Changed Rev: 27709 | lamb1 | Linux (SUSE 10.1) | x86_64 | OK | OK | |
| wellington | Linux (SUSE 9.2) | i686 | OK | OK | ||
| liverpool | Windows Server 2003 R2 (32-bit) | x64 | OK | OK | OK | |
| pitt | Mac OS X (10.4.10) | i386 | OK | OK | [ OK ] |
| Package: SBMLR |
| Version: 1.32.0 |
| Command: /Users/biocbuild/BBS/utils/build-universal.sh SBMLR_1.32.0.tar.gz /Library/Frameworks/R.framework/Resources/bin/R SBMLR.buildbin-libdir |
| RetCode: 0 |
| Time: 4.8 seconds |
| Status: OK |
| PackageFile: SBMLR_1.32.0.tgz |
INSTALLATION WITH 'R CMD INSTALL SBMLR_1.32.0.tar.gz'
* Installing to library 'SBMLR.buildbin-libdir'
* Installing *source* package 'SBMLR' ...
** R
** inst
** preparing package for lazy loading
Loading required package: XML
Loading required package: odesolve
** help
>>> Building/Updating help pages for package 'SBMLR'
Formats: text html latex example
equateModels text html latex example
makeLaw text html latex example
readSBML text html latex example
readSBMLR text html latex example
saveSBML text html latex example
saveSBMLR text html latex example
simulate text html latex example
summary.SBML text html latex example
** building package indices ...
* DONE (SBMLR)