Back to the "Multiple platform build/check report"
| Package 188/234 | Hostname | OS | Arch | BUILD | CHECK | BUILD BIN |
| Rintact 1.0.0 Tony Chiang Last Changed Date: 2007-10-05 18:27:16 -0700 Last Changed Rev: 27809 | lamb1 | Linux (SUSE 10.1) | x86_64 | [ OK ] | OK | |
| wellington | Linux (SUSE 9.2) | i686 | OK | OK | ||
| liverpool | Windows Server 2003 R2 (32-bit) | x64 | OK | OK | OK | |
| pitt | Mac OS X (10.4.10) | i386 | OK | OK | OK |
| Package: Rintact |
| Version: 1.0.0 |
| Command: /home/biocbuild/bbs-2.1-bioc/R/bin/R CMD build Rintact |
| RetCode: 0 |
| Time: 27.6 seconds |
| Status: OK |
| PackageFile: Rintact_1.0.0.tar.gz |
* checking for file 'Rintact/DESCRIPTION' ... OK
* preparing 'Rintact':
* checking DESCRIPTION meta-information ... OK
* installing the package to re-build vignettes
* Installing *source* package 'Rintact' ...
** R
** inst
** preparing package for lazy loading
Loading required package: XML
Loading required package: graph
Loading required package: ppiStats
Loading required package: GO
Loading required package: GOstats
Loading required package: GO.db
Loading required package: AnnotationDbi
Loading required package: Biobase
Loading required package: tools
Welcome to Bioconductor
Vignettes contain introductory material. To view, type
'openVignette()'. To cite Bioconductor, see
'citation("Biobase")' and for packages 'citation(pkgname)'.
Loading required package: DBI
Loading required package: RSQLite
Attaching package: 'GO.db'
The following object(s) are masked from package:GO :
GOBPANCESTOR,
GOBPCHILDREN,
GOBPOFFSPRING,
GOBPPARENTS,
GOCCANCESTOR,
GOCCCHILDREN,
GOCCOFFSPRING,
GOCCPARENTS,
GOMAPCOUNTS,
GOMFANCESTOR,
GOMFCHILDREN,
GOMFOFFSPRING,
GOMFPARENTS,
GOOBSOLETE,
GOSYNONYM,
GOTERM
Loading required package: annotate
Loading required package: xtable
Loading required package: RBGL
Loading required package: Category
Loading required package: genefilter
Loading required package: survival
Loading required package: splines
Loading required package: YEAST
Loading required package: ppiData
Loading required package: Rgraphviz
Attaching package: 'Rgraphviz'
The following object(s) are masked from package:annotate :
toFile
Loading required package: hypergraph
** help
>>> Building/Updating help pages for package 'Rintact'
Formats: text html latex example
bait text html latex example
complexEntry text html latex
complexes text html latex example
eListHandler text html latex example
intactComplex text html latex
intactGraph text html latex
intactHyperGraph text html latex
intactInteraction text html latex
intactXML2Graph text html latex example
interactionEntry text html latex
interactions text html latex example
interactors text html latex example
list2Matrix text html latex example
organismName text html latex example
prey text html latex example
psi25interaction text html latex example
releaseDate text html latex example
taxId text html latex example
translateIntactID text html latex example
** building package indices ...
* DONE (Rintact)
* creating vignettes ... OK
* removing junk files
* checking for LF line-endings in source and make files
* checking for empty or unneeded directories
* building 'Rintact_1.0.0.tar.gz'