Back to the "Multiple platform build/check report"
| Package 194/234 | Hostname | OS | Arch | BUILD | CHECK | BUILD BIN |
| RSNPper 1.12.0 VJ Carey Last Changed Date: 2007-10-02 17:41:09 -0700 Last Changed Rev: 27709 | lamb1 | Linux (SUSE 10.1) | x86_64 | OK | OK | |
| wellington | Linux (SUSE 9.2) | i686 | OK | OK | ||
| liverpool | Windows Server 2003 R2 (32-bit) | x64 | OK | OK | [ OK ] | |
| pitt | Mac OS X (10.4.10) | i386 | OK | OK | OK |
| Package: RSNPper |
| Version: 1.12.0 |
| Command: E:\biocbld\bbs-2.1-bioc\R\bin\R.exe CMD INSTALL --build --library=RSNPper.buildbin-libdir RSNPper_1.12.0.tar.gz |
| RetCode: 0 |
| Time: 14.3 seconds |
| Status: OK |
| PackageFile: RSNPper_1.12.0.zip |
installing R.css in E:/biocbld/bbs-2.1-bioc/meat/RSNPper.buildbin-libdir
Using auto-selected zip options ''
---------- Making package RSNPper ------------
adding build stamp to DESCRIPTION
installing NAMESPACE file and metadata
installing R files
installing inst files
installing man source files
installing indices
installing help
>>> Building/Updating help pages for package 'RSNPper'
Formats: text html latex example chm
SNPperMeta-class text html latex example chm
geneInfo text html latex example chm
Microsoft HTML Help Compiler 4.74.8702
Compiling e:\biocbld\bbs-2.1-bioc\meat\R.INSTALL.3248\RSNPper\chm\RSNPper.chm
Compile time: 0 minutes, 0 seconds
3 Topics
34 Local links
0 Internet links
1 Graphic
Created e:\biocbld\bbs-2.1-bioc\meat\R.INSTALL.3248\RSNPper\chm\RSNPper.chm, 21,730 bytes
Compression decreased file by 1,708 bytes.
adding MD5 sums
packaged installation of package 'RSNPper' as RSNPper_1.12.0.zip
* DONE (RSNPper)